BEGIN:VCALENDAR
VERSION:2.0
PRODID:-//Raphael House Rudolf Steiner School - ECPv6.15.20//NONSGML v1.0//EN
CALSCALE:GREGORIAN
METHOD:PUBLISH
X-WR-CALNAME:Raphael House Rudolf Steiner School
X-ORIGINAL-URL:https://raphaelhouse.school.nz
X-WR-CALDESC:Events for Raphael House Rudolf Steiner School
REFRESH-INTERVAL;VALUE=DURATION:PT1H
X-Robots-Tag:noindex
X-PUBLISHED-TTL:PT1H
BEGIN:VTIMEZONE
TZID:Pacific/Auckland
BEGIN:STANDARD
TZOFFSETFROM:+1300
TZOFFSETTO:+1200
TZNAME:NZST
DTSTART:20190406T140000
END:STANDARD
BEGIN:DAYLIGHT
TZOFFSETFROM:+1200
TZOFFSETTO:+1300
TZNAME:NZDT
DTSTART:20190928T140000
END:DAYLIGHT
BEGIN:STANDARD
TZOFFSETFROM:+1300
TZOFFSETTO:+1200
TZNAME:NZST
DTSTART:20200404T140000
END:STANDARD
BEGIN:DAYLIGHT
TZOFFSETFROM:+1200
TZOFFSETTO:+1300
TZNAME:NZDT
DTSTART:20200926T140000
END:DAYLIGHT
BEGIN:STANDARD
TZOFFSETFROM:+1300
TZOFFSETTO:+1200
TZNAME:NZST
DTSTART:20210403T140000
END:STANDARD
BEGIN:DAYLIGHT
TZOFFSETFROM:+1200
TZOFFSETTO:+1300
TZNAME:NZDT
DTSTART:20210925T140000
END:DAYLIGHT
END:VTIMEZONE
BEGIN:VEVENT
DTSTART;TZID=Pacific/Auckland:20200213T000000
DTEND;TZID=Pacific/Auckland:20200213T235959
DTSTAMP:20260423T084020
CREATED:20200116T231704Z
LAST-MODIFIED:20200213T233108Z
UID:1154-1581552000-1581638399@raphaelhouse.school.nz
SUMMARY:School Photos
DESCRIPTION:
URL:https://raphaelhouse.school.nz/event/school-photos-2/
END:VEVENT
BEGIN:VEVENT
DTSTART;TZID=Pacific/Auckland:20200213T190000
DTEND;TZID=Pacific/Auckland:20200213T210000
DTSTAMP:20260423T084020
CREATED:20200204T204609Z
LAST-MODIFIED:20200213T233108Z
UID:2366-1581620400-1581627600@raphaelhouse.school.nz
SUMMARY:Kindergarten Parent Evening
DESCRIPTION:
URL:https://raphaelhouse.school.nz/event/kindergarten-parent-evening/
END:VEVENT
BEGIN:VEVENT
DTSTART;TZID=Pacific/Auckland:20200213T193000
DTEND;TZID=Pacific/Auckland:20200213T210000
DTSTAMP:20260423T084020
CREATED:20200204T023110Z
LAST-MODIFIED:20200213T233109Z
UID:2272-1581622200-1581627600@raphaelhouse.school.nz
SUMMARY:Class 11 Parent Evening
DESCRIPTION:
URL:https://raphaelhouse.school.nz/event/class-11-parent-evening/
END:VEVENT
END:VCALENDAR