BEGIN:VCALENDAR
VERSION:2.0
PRODID:-//Raphael House Rudolf Steiner School - ECPv6.15.20//NONSGML v1.0//EN
CALSCALE:GREGORIAN
METHOD:PUBLISH
X-WR-CALNAME:Raphael House Rudolf Steiner School
X-ORIGINAL-URL:https://raphaelhouse.school.nz
X-WR-CALDESC:Events for Raphael House Rudolf Steiner School
REFRESH-INTERVAL;VALUE=DURATION:PT1H
X-Robots-Tag:noindex
X-PUBLISHED-TTL:PT1H
BEGIN:VTIMEZONE
TZID:Pacific/Auckland
BEGIN:STANDARD
TZOFFSETFROM:+1300
TZOFFSETTO:+1200
TZNAME:NZST
DTSTART:20190406T140000
END:STANDARD
BEGIN:DAYLIGHT
TZOFFSETFROM:+1200
TZOFFSETTO:+1300
TZNAME:NZDT
DTSTART:20190928T140000
END:DAYLIGHT
BEGIN:STANDARD
TZOFFSETFROM:+1300
TZOFFSETTO:+1200
TZNAME:NZST
DTSTART:20200404T140000
END:STANDARD
BEGIN:DAYLIGHT
TZOFFSETFROM:+1200
TZOFFSETTO:+1300
TZNAME:NZDT
DTSTART:20200926T140000
END:DAYLIGHT
BEGIN:STANDARD
TZOFFSETFROM:+1300
TZOFFSETTO:+1200
TZNAME:NZST
DTSTART:20210403T140000
END:STANDARD
BEGIN:DAYLIGHT
TZOFFSETFROM:+1200
TZOFFSETTO:+1300
TZNAME:NZDT
DTSTART:20210925T140000
END:DAYLIGHT
END:VTIMEZONE
BEGIN:VEVENT
DTSTART;TZID=Pacific/Auckland:20201102T000000
DTEND;TZID=Pacific/Auckland:20201106T235959
DTSTAMP:20260422T171535
CREATED:20200210T234108Z
LAST-MODIFIED:20200902T044312Z
UID:2974-1604275200-1604707199@raphaelhouse.school.nz
SUMMARY:Class 12 NZCSE Exams
DESCRIPTION:
URL:https://raphaelhouse.school.nz/event/class-12-nzcse-exams/
END:VEVENT
BEGIN:VEVENT
DTSTART;TZID=Pacific/Auckland:20201104T150000
DTEND;TZID=Pacific/Auckland:20201104T163000
DTSTAMP:20260422T171535
CREATED:20200123T202007Z
LAST-MODIFIED:20200902T044312Z
UID:1251-1604502000-1604507400@raphaelhouse.school.nz
SUMMARY:Special Character Talk
DESCRIPTION:Introduction for all new families who are interested in coming to Raphael House.
URL:https://raphaelhouse.school.nz/event/special-character-talk-4/
END:VEVENT
BEGIN:VEVENT
DTSTART;TZID=Pacific/Auckland:20201104T190000
DTEND;TZID=Pacific/Auckland:20201104T203000
DTSTAMP:20260422T171535
CREATED:20200123T202007Z
LAST-MODIFIED:20200204T023112Z
UID:1252-1604516400-1604521800@raphaelhouse.school.nz
SUMMARY:Class 4 Parent Evening
DESCRIPTION:
URL:https://raphaelhouse.school.nz/event/class-4-parent-evening-3/
END:VEVENT
END:VCALENDAR