BEGIN:VCALENDAR
VERSION:2.0
PRODID:-//Raphael House Rudolf Steiner School - ECPv6.15.20//NONSGML v1.0//EN
CALSCALE:GREGORIAN
METHOD:PUBLISH
X-ORIGINAL-URL:https://raphaelhouse.school.nz
X-WR-CALDESC:Events for Raphael House Rudolf Steiner School
REFRESH-INTERVAL;VALUE=DURATION:PT1H
X-Robots-Tag:noindex
X-PUBLISHED-TTL:PT1H
BEGIN:VTIMEZONE
TZID:Pacific/Auckland
BEGIN:STANDARD
TZOFFSETFROM:+1300
TZOFFSETTO:+1200
TZNAME:NZST
DTSTART:20190406T140000
END:STANDARD
BEGIN:DAYLIGHT
TZOFFSETFROM:+1200
TZOFFSETTO:+1300
TZNAME:NZDT
DTSTART:20190928T140000
END:DAYLIGHT
BEGIN:STANDARD
TZOFFSETFROM:+1300
TZOFFSETTO:+1200
TZNAME:NZST
DTSTART:20200404T140000
END:STANDARD
BEGIN:DAYLIGHT
TZOFFSETFROM:+1200
TZOFFSETTO:+1300
TZNAME:NZDT
DTSTART:20200926T140000
END:DAYLIGHT
BEGIN:STANDARD
TZOFFSETFROM:+1300
TZOFFSETTO:+1200
TZNAME:NZST
DTSTART:20210403T140000
END:STANDARD
BEGIN:DAYLIGHT
TZOFFSETFROM:+1200
TZOFFSETTO:+1300
TZNAME:NZDT
DTSTART:20210925T140000
END:DAYLIGHT
END:VTIMEZONE
BEGIN:VEVENT
DTSTART;TZID=Pacific/Auckland:20201130T000000
DTEND;TZID=Pacific/Auckland:20201130T235959
DTSTAMP:20260422T153403
CREATED:20200123T202007Z
LAST-MODIFIED:20201130T231620Z
UID:1255-1606694400-1606780799@raphaelhouse.school.nz
SUMMARY:Angels in the Garden
DESCRIPTION:
URL:https://raphaelhouse.school.nz/event/angels-in-the-garden/
END:VEVENT
BEGIN:VEVENT
DTSTART;TZID=Pacific/Auckland:20201130T183000
DTEND;TZID=Pacific/Auckland:20201130T203000
DTSTAMP:20260422T153403
CREATED:20200210T234108Z
LAST-MODIFIED:20201130T070121Z
UID:2977-1606761000-1606768200@raphaelhouse.school.nz
SUMMARY:Board of Trustees Hui
DESCRIPTION:
URL:https://raphaelhouse.school.nz/event/board-of-trustees-hui-151/
END:VEVENT
END:VCALENDAR