BEGIN:VCALENDAR
VERSION:2.0
PRODID:-//Raphael House Rudolf Steiner School - ECPv6.15.20//NONSGML v1.0//EN
CALSCALE:GREGORIAN
METHOD:PUBLISH
X-WR-CALNAME:Raphael House Rudolf Steiner School
X-ORIGINAL-URL:https://raphaelhouse.school.nz
X-WR-CALDESC:Events for Raphael House Rudolf Steiner School
REFRESH-INTERVAL;VALUE=DURATION:PT1H
X-Robots-Tag:noindex
X-PUBLISHED-TTL:PT1H
BEGIN:VTIMEZONE
TZID:Pacific/Auckland
BEGIN:STANDARD
TZOFFSETFROM:+1300
TZOFFSETTO:+1200
TZNAME:NZST
DTSTART:20190406T140000
END:STANDARD
BEGIN:DAYLIGHT
TZOFFSETFROM:+1200
TZOFFSETTO:+1300
TZNAME:NZDT
DTSTART:20190928T140000
END:DAYLIGHT
BEGIN:STANDARD
TZOFFSETFROM:+1300
TZOFFSETTO:+1200
TZNAME:NZST
DTSTART:20200404T140000
END:STANDARD
BEGIN:DAYLIGHT
TZOFFSETFROM:+1200
TZOFFSETTO:+1300
TZNAME:NZDT
DTSTART:20200926T140000
END:DAYLIGHT
BEGIN:STANDARD
TZOFFSETFROM:+1300
TZOFFSETTO:+1200
TZNAME:NZST
DTSTART:20210403T140000
END:STANDARD
BEGIN:DAYLIGHT
TZOFFSETFROM:+1200
TZOFFSETTO:+1300
TZNAME:NZDT
DTSTART:20210925T140000
END:DAYLIGHT
END:VTIMEZONE
BEGIN:VEVENT
DTSTART;TZID=Pacific/Auckland:20201207T000000
DTEND;TZID=Pacific/Auckland:20201211T235959
DTSTAMP:20260422T153337
CREATED:20200210T234108Z
LAST-MODIFIED:20201211T233311Z
UID:2979-1607299200-1607731199@raphaelhouse.school.nz
SUMMARY:Class 9 Odyssey Camp
DESCRIPTION:
URL:https://raphaelhouse.school.nz/event/class-9-odyssey-camp/
END:VEVENT
BEGIN:VEVENT
DTSTART;TZID=Pacific/Auckland:20201211T190000
DTEND;TZID=Pacific/Auckland:20201211T210000
DTSTAMP:20260422T153337
CREATED:20200123T202007Z
LAST-MODIFIED:20201211T073313Z
UID:1258-1607713200-1607720400@raphaelhouse.school.nz
SUMMARY:Class 12 Play
DESCRIPTION:
URL:https://raphaelhouse.school.nz/event/class-12-play-2/
END:VEVENT
END:VCALENDAR