BEGIN:VCALENDAR
VERSION:2.0
PRODID:-//Raphael House Rudolf Steiner School - ECPv6.15.20//NONSGML v1.0//EN
CALSCALE:GREGORIAN
METHOD:PUBLISH
X-WR-CALNAME:Raphael House Rudolf Steiner School
X-ORIGINAL-URL:https://raphaelhouse.school.nz
X-WR-CALDESC:Events for Raphael House Rudolf Steiner School
REFRESH-INTERVAL;VALUE=DURATION:PT1H
X-Robots-Tag:noindex
X-PUBLISHED-TTL:PT1H
BEGIN:VTIMEZONE
TZID:Pacific/Auckland
BEGIN:STANDARD
TZOFFSETFROM:+1300
TZOFFSETTO:+1200
TZNAME:NZST
DTSTART:20190406T140000
END:STANDARD
BEGIN:DAYLIGHT
TZOFFSETFROM:+1200
TZOFFSETTO:+1300
TZNAME:NZDT
DTSTART:20190928T140000
END:DAYLIGHT
BEGIN:STANDARD
TZOFFSETFROM:+1300
TZOFFSETTO:+1200
TZNAME:NZST
DTSTART:20200404T140000
END:STANDARD
BEGIN:DAYLIGHT
TZOFFSETFROM:+1200
TZOFFSETTO:+1300
TZNAME:NZDT
DTSTART:20200926T140000
END:DAYLIGHT
BEGIN:STANDARD
TZOFFSETFROM:+1300
TZOFFSETTO:+1200
TZNAME:NZST
DTSTART:20210403T140000
END:STANDARD
BEGIN:DAYLIGHT
TZOFFSETFROM:+1200
TZOFFSETTO:+1300
TZNAME:NZDT
DTSTART:20210925T140000
END:DAYLIGHT
END:VTIMEZONE
BEGIN:VEVENT
DTSTART;TZID=Pacific/Auckland:20201214T000100
DTEND;TZID=Pacific/Auckland:20201214T235900
DTSTAMP:20260422T153341
CREATED:20200203T231610Z
LAST-MODIFIED:20200226T223746Z
UID:2257-1607904060-1607990340@raphaelhouse.school.nz
SUMMARY:Class 12 First Aid Refresher
DESCRIPTION:
URL:https://raphaelhouse.school.nz/event/class-12-first-aid-refresher-243/
END:VEVENT
BEGIN:VEVENT
DTSTART;TZID=Pacific/Auckland:20201214T000100
DTEND;TZID=Pacific/Auckland:20201215T235900
DTSTAMP:20260422T153341
CREATED:20200124T003205Z
LAST-MODIFIED:20200124T003205Z
UID:1328-1607904060-1608076740@raphaelhouse.school.nz
SUMMARY:Class 10 First Aid
DESCRIPTION:
URL:https://raphaelhouse.school.nz/event/class-10-first-aid-8/
END:VEVENT
BEGIN:VEVENT
DTSTART;TZID=Pacific/Auckland:20201214T183000
DTEND;TZID=Pacific/Auckland:20201214T193000
DTSTAMP:20260422T153341
CREATED:20200131T043205Z
LAST-MODIFIED:20200131T043205Z
UID:1926-1607970600-1607974200@raphaelhouse.school.nz
SUMMARY:Sherperd's Play
DESCRIPTION:
URL:https://raphaelhouse.school.nz/event/sherperds-play-9/
END:VEVENT
END:VCALENDAR