BEGIN:VCALENDAR
VERSION:2.0
PRODID:-//Raphael House Rudolf Steiner School - ECPv6.15.20//NONSGML v1.0//EN
CALSCALE:GREGORIAN
METHOD:PUBLISH
X-ORIGINAL-URL:https://raphaelhouse.school.nz
X-WR-CALDESC:Events for Raphael House Rudolf Steiner School
REFRESH-INTERVAL;VALUE=DURATION:PT1H
X-Robots-Tag:noindex
X-PUBLISHED-TTL:PT1H
BEGIN:VTIMEZONE
TZID:Pacific/Auckland
BEGIN:STANDARD
TZOFFSETFROM:+1300
TZOFFSETTO:+1200
TZNAME:NZST
DTSTART:20190406T140000
END:STANDARD
BEGIN:DAYLIGHT
TZOFFSETFROM:+1200
TZOFFSETTO:+1300
TZNAME:NZDT
DTSTART:20190928T140000
END:DAYLIGHT
BEGIN:STANDARD
TZOFFSETFROM:+1300
TZOFFSETTO:+1200
TZNAME:NZST
DTSTART:20200404T140000
END:STANDARD
BEGIN:DAYLIGHT
TZOFFSETFROM:+1200
TZOFFSETTO:+1300
TZNAME:NZDT
DTSTART:20200926T140000
END:DAYLIGHT
BEGIN:STANDARD
TZOFFSETFROM:+1300
TZOFFSETTO:+1200
TZNAME:NZST
DTSTART:20210403T140000
END:STANDARD
BEGIN:DAYLIGHT
TZOFFSETFROM:+1200
TZOFFSETTO:+1300
TZNAME:NZDT
DTSTART:20210925T140000
END:DAYLIGHT
END:VTIMEZONE
BEGIN:VEVENT
DTSTART;TZID=Pacific/Auckland:20201217T000000
DTEND;TZID=Pacific/Auckland:20201231T235959
DTSTAMP:20260422T140646
CREATED:20200123T202008Z
LAST-MODIFIED:20201231T234813Z
UID:1266-1608163200-1609459199@raphaelhouse.school.nz
SUMMARY:End of School Year Holidays 2020
DESCRIPTION:
URL:https://raphaelhouse.school.nz/event/end-of-school-year-holidays-2020/
END:VEVENT
END:VCALENDAR