BEGIN:VCALENDAR
VERSION:2.0
PRODID:-//Raphael House Rudolf Steiner School - ECPv6.15.20//NONSGML v1.0//EN
CALSCALE:GREGORIAN
METHOD:PUBLISH
X-WR-CALNAME:Raphael House Rudolf Steiner School
X-ORIGINAL-URL:https://raphaelhouse.school.nz
X-WR-CALDESC:Events for Raphael House Rudolf Steiner School
REFRESH-INTERVAL;VALUE=DURATION:PT1H
X-Robots-Tag:noindex
X-PUBLISHED-TTL:PT1H
BEGIN:VTIMEZONE
TZID:Pacific/Auckland
BEGIN:STANDARD
TZOFFSETFROM:+1300
TZOFFSETTO:+1200
TZNAME:NZST
DTSTART:20190406T140000
END:STANDARD
BEGIN:DAYLIGHT
TZOFFSETFROM:+1200
TZOFFSETTO:+1300
TZNAME:NZDT
DTSTART:20190928T140000
END:DAYLIGHT
BEGIN:STANDARD
TZOFFSETFROM:+1300
TZOFFSETTO:+1200
TZNAME:NZST
DTSTART:20200404T140000
END:STANDARD
BEGIN:DAYLIGHT
TZOFFSETFROM:+1200
TZOFFSETTO:+1300
TZNAME:NZDT
DTSTART:20200926T140000
END:DAYLIGHT
BEGIN:STANDARD
TZOFFSETFROM:+1300
TZOFFSETTO:+1200
TZNAME:NZST
DTSTART:20210403T140000
END:STANDARD
BEGIN:DAYLIGHT
TZOFFSETFROM:+1200
TZOFFSETTO:+1300
TZNAME:NZDT
DTSTART:20210925T140000
END:DAYLIGHT
END:VTIMEZONE
BEGIN:VEVENT
DTSTART;TZID=Pacific/Auckland:20200131T150000
DTEND;TZID=Pacific/Auckland:20200131T163000
DTSTAMP:20260423T094743
CREATED:20200115T230604Z
LAST-MODIFIED:20200130T231703Z
UID:1141-1580482800-1580488200@raphaelhouse.school.nz
SUMMARY:Raphael House Pōwhiri
DESCRIPTION:
URL:https://raphaelhouse.school.nz/event/raphael-house-powhiri/
END:VEVENT
BEGIN:VEVENT
DTSTART;TZID=Pacific/Auckland:20200131T000000
DTEND;TZID=Pacific/Auckland:20200131T235959
DTSTAMP:20260423T094743
CREATED:20200116T231703Z
LAST-MODIFIED:20200130T231703Z
UID:1147-1580428800-1580515199@raphaelhouse.school.nz
SUMMARY:Teacher Development Day
DESCRIPTION:
URL:https://raphaelhouse.school.nz/event/teacher-development-day-3/
END:VEVENT
BEGIN:VEVENT
DTSTART;TZID=Pacific/Auckland:20200130T000000
DTEND;TZID=Pacific/Auckland:20200130T235959
DTSTAMP:20260423T094743
CREATED:20200116T231703Z
LAST-MODIFIED:20200130T231703Z
UID:1146-1580342400-1580428799@raphaelhouse.school.nz
SUMMARY:Teacher Development Day
DESCRIPTION:
URL:https://raphaelhouse.school.nz/event/teacher-development-day-2/
END:VEVENT
BEGIN:VEVENT
DTSTART;TZID=Pacific/Auckland:20200129T000000
DTEND;TZID=Pacific/Auckland:20200129T235959
DTSTAMP:20260423T094743
CREATED:20200116T231703Z
LAST-MODIFIED:20200129T231703Z
UID:1145-1580256000-1580342399@raphaelhouse.school.nz
SUMMARY:Teacher Development Day
DESCRIPTION:
URL:https://raphaelhouse.school.nz/event/teacher-development-day/
END:VEVENT
BEGIN:VEVENT
DTSTART;TZID=Pacific/Auckland:20200127T183000
DTEND;TZID=Pacific/Auckland:20200127T203000
DTSTAMP:20260423T094743
CREATED:20200115T230604Z
LAST-MODIFIED:20200127T234703Z
UID:1140-1580149800-1580157000@raphaelhouse.school.nz
SUMMARY:Board of Trustees Hui
DESCRIPTION:
URL:https://raphaelhouse.school.nz/event/board-of-trustees-hui/
END:VEVENT
END:VCALENDAR