BEGIN:VCALENDAR
VERSION:2.0
PRODID:-//Raphael House Rudolf Steiner School - ECPv6.15.20//NONSGML v1.0//EN
CALSCALE:GREGORIAN
METHOD:PUBLISH
X-WR-CALNAME:Raphael House Rudolf Steiner School
X-ORIGINAL-URL:https://raphaelhouse.school.nz
X-WR-CALDESC:Events for Raphael House Rudolf Steiner School
REFRESH-INTERVAL;VALUE=DURATION:PT1H
X-Robots-Tag:noindex
X-PUBLISHED-TTL:PT1H
BEGIN:VTIMEZONE
TZID:Pacific/Auckland
BEGIN:STANDARD
TZOFFSETFROM:+1300
TZOFFSETTO:+1200
TZNAME:NZST
DTSTART:20180331T140000
END:STANDARD
BEGIN:DAYLIGHT
TZOFFSETFROM:+1200
TZOFFSETTO:+1300
TZNAME:NZDT
DTSTART:20180929T140000
END:DAYLIGHT
BEGIN:STANDARD
TZOFFSETFROM:+1300
TZOFFSETTO:+1200
TZNAME:NZST
DTSTART:20190406T140000
END:STANDARD
BEGIN:DAYLIGHT
TZOFFSETFROM:+1200
TZOFFSETTO:+1300
TZNAME:NZDT
DTSTART:20190928T140000
END:DAYLIGHT
BEGIN:STANDARD
TZOFFSETFROM:+1300
TZOFFSETTO:+1200
TZNAME:NZST
DTSTART:20200404T140000
END:STANDARD
BEGIN:DAYLIGHT
TZOFFSETFROM:+1200
TZOFFSETTO:+1300
TZNAME:NZDT
DTSTART:20200926T140000
END:DAYLIGHT
BEGIN:STANDARD
TZOFFSETFROM:+1300
TZOFFSETTO:+1200
TZNAME:NZST
DTSTART:20210403T140000
END:STANDARD
BEGIN:DAYLIGHT
TZOFFSETFROM:+1200
TZOFFSETTO:+1300
TZNAME:NZDT
DTSTART:20210925T140000
END:DAYLIGHT
END:VTIMEZONE
BEGIN:VEVENT
DTSTART;TZID=Pacific/Auckland:20200311T000000
DTEND;TZID=Pacific/Auckland:20200313T235959
DTSTAMP:20260423T094945
CREATED:20200123T202005Z
LAST-MODIFIED:20200313T234610Z
UID:1218-1583884800-1584143999@raphaelhouse.school.nz
SUMMARY:Class 3 Camp
DESCRIPTION:
URL:https://raphaelhouse.school.nz/event/class-3-camp/
END:VEVENT
BEGIN:VEVENT
DTSTART;TZID=Pacific/Auckland:20200303T153000
DTEND;TZID=Pacific/Auckland:20200303T170000
DTSTAMP:20260423T094945
CREATED:20200123T202005Z
LAST-MODIFIED:20200303T034610Z
UID:1217-1583249400-1583254800@raphaelhouse.school.nz
SUMMARY:Nga Rito Hui
DESCRIPTION:
URL:https://raphaelhouse.school.nz/event/nga-rito-hui/
END:VEVENT
BEGIN:VEVENT
DTSTART;TZID=Pacific/Auckland:20200303T000000
DTEND;TZID=Pacific/Auckland:20200306T235959
DTSTAMP:20260423T094945
CREATED:20200210T234104Z
LAST-MODIFIED:20200306T234610Z
UID:2946-1583193600-1583539199@raphaelhouse.school.nz
SUMMARY:Class 7 Sailing Camp
DESCRIPTION:
URL:https://raphaelhouse.school.nz/event/class-7-sailing-camp/
END:VEVENT
BEGIN:VEVENT
DTSTART;TZID=Pacific/Auckland:20200303T000000
DTEND;TZID=Pacific/Auckland:20200306T235959
DTSTAMP:20260423T094945
CREATED:20200123T202005Z
LAST-MODIFIED:20200306T234610Z
UID:1216-1583193600-1583539199@raphaelhouse.school.nz
SUMMARY:Class 4 & 5 Camp
DESCRIPTION:
URL:https://raphaelhouse.school.nz/event/class-4-5-camp/
END:VEVENT
BEGIN:VEVENT
DTSTART;TZID=Pacific/Auckland:20200302T183000
DTEND;TZID=Pacific/Auckland:20200302T203000
DTSTAMP:20260423T094945
CREATED:20200123T202005Z
LAST-MODIFIED:20200302T070117Z
UID:1215-1583173800-1583181000@raphaelhouse.school.nz
SUMMARY:Board of Trustees Hui
DESCRIPTION:
URL:https://raphaelhouse.school.nz/event/board-of-trustees-hui-2/
LOCATION:Lower School Staff Room
END:VEVENT
BEGIN:VEVENT
DTSTART;TZID=Pacific/Auckland:20200224T000000
DTEND;TZID=Pacific/Auckland:20200228T235959
DTSTAMP:20260423T094945
CREATED:20200204T023111Z
LAST-MODIFIED:20200228T233110Z
UID:2274-1582502400-1582934399@raphaelhouse.school.nz
SUMMARY:Upper School Camps
DESCRIPTION:
URL:https://raphaelhouse.school.nz/event/upper-school-camps/
END:VEVENT
BEGIN:VEVENT
DTSTART;TZID=Pacific/Auckland:20200223T000000
DTEND;TZID=Pacific/Auckland:20200227T235959
DTSTAMP:20260423T094945
CREATED:20200123T202005Z
LAST-MODIFIED:20200227T234611Z
UID:1213-1582416000-1582847999@raphaelhouse.school.nz
SUMMARY:Class 11 Abel Tasman Camp
DESCRIPTION:
URL:https://raphaelhouse.school.nz/event/class-11-abel-tasman-camp/
END:VEVENT
BEGIN:VEVENT
DTSTART;TZID=Pacific/Auckland:20200219T150000
DTEND;TZID=Pacific/Auckland:20200219T163000
DTSTAMP:20260423T094945
CREATED:20200120T233203Z
LAST-MODIFIED:20200219T030117Z
UID:1190-1582124400-1582129800@raphaelhouse.school.nz
SUMMARY:Special Character Talk
DESCRIPTION:Introduction for all new families who are interested in coming to Raphael House.
URL:https://raphaelhouse.school.nz/event/special-character-talk/
END:VEVENT
BEGIN:VEVENT
DTSTART;TZID=Pacific/Auckland:20200218T193000
DTEND;TZID=Pacific/Auckland:20200218T210000
DTSTAMP:20260423T094945
CREATED:20200204T023110Z
LAST-MODIFIED:20200218T071611Z
UID:2273-1582054200-1582059600@raphaelhouse.school.nz
SUMMARY:Class 12 Parent Evening
DESCRIPTION:
URL:https://raphaelhouse.school.nz/event/class-12-parent-evening/
END:VEVENT
BEGIN:VEVENT
DTSTART;TZID=Pacific/Auckland:20200218T193000
DTEND;TZID=Pacific/Auckland:20200218T210000
DTSTAMP:20260423T094945
CREATED:20200119T233203Z
LAST-MODIFIED:20200218T071611Z
UID:1187-1582054200-1582059600@raphaelhouse.school.nz
SUMMARY:Class 4 & 5 Camp Parent Meeting
DESCRIPTION:
URL:https://raphaelhouse.school.nz/event/class-4-5-camp-parent-meeting/
END:VEVENT
BEGIN:VEVENT
DTSTART;TZID=Pacific/Auckland:20200217T183000
DTEND;TZID=Pacific/Auckland:20200217T200000
DTSTAMP:20260423T094945
CREATED:20200116T231703Z
LAST-MODIFIED:20200217T191618Z
UID:1151-1581964200-1581969600@raphaelhouse.school.nz
SUMMARY:Class Rep Hui
DESCRIPTION:
URL:https://raphaelhouse.school.nz/event/class-rep-hui/
LOCATION:Heidi Werthe Room
END:VEVENT
BEGIN:VEVENT
DTSTART;TZID=Pacific/Auckland:20200213T193000
DTEND;TZID=Pacific/Auckland:20200213T210000
DTSTAMP:20260423T094945
CREATED:20200204T023110Z
LAST-MODIFIED:20200213T233109Z
UID:2272-1581622200-1581627600@raphaelhouse.school.nz
SUMMARY:Class 11 Parent Evening
DESCRIPTION:
URL:https://raphaelhouse.school.nz/event/class-11-parent-evening/
END:VEVENT
BEGIN:VEVENT
DTSTART;TZID=Pacific/Auckland:20200213T190000
DTEND;TZID=Pacific/Auckland:20200213T210000
DTSTAMP:20260423T094945
CREATED:20200204T204609Z
LAST-MODIFIED:20200213T233108Z
UID:2366-1581620400-1581627600@raphaelhouse.school.nz
SUMMARY:Kindergarten Parent Evening
DESCRIPTION:
URL:https://raphaelhouse.school.nz/event/kindergarten-parent-evening/
END:VEVENT
BEGIN:VEVENT
DTSTART;TZID=Pacific/Auckland:20200213T000000
DTEND;TZID=Pacific/Auckland:20200213T235959
DTSTAMP:20260423T094945
CREATED:20200116T231704Z
LAST-MODIFIED:20200213T233108Z
UID:1154-1581552000-1581638399@raphaelhouse.school.nz
SUMMARY:School Photos
DESCRIPTION:
URL:https://raphaelhouse.school.nz/event/school-photos-2/
END:VEVENT
BEGIN:VEVENT
DTSTART;TZID=Pacific/Auckland:20200212T193000
DTEND;TZID=Pacific/Auckland:20200212T210000
DTSTAMP:20260423T094945
CREATED:20200204T023110Z
LAST-MODIFIED:20200212T234608Z
UID:2271-1581535800-1581541200@raphaelhouse.school.nz
SUMMARY:Class 10 Parent Evening
DESCRIPTION:
URL:https://raphaelhouse.school.nz/event/class-10-parent-evening/
END:VEVENT
BEGIN:VEVENT
DTSTART;TZID=Pacific/Auckland:20200212T190000
DTEND;TZID=Pacific/Auckland:20200212T203000
DTSTAMP:20260423T094945
CREATED:20200116T231704Z
LAST-MODIFIED:20200212T234608Z
UID:1153-1581534000-1581539400@raphaelhouse.school.nz
SUMMARY:Class 7 Parent Meeting
DESCRIPTION:
URL:https://raphaelhouse.school.nz/event/class-7-parent-meeting/
END:VEVENT
BEGIN:VEVENT
DTSTART;TZID=Pacific/Auckland:20200212T000000
DTEND;TZID=Pacific/Auckland:20200212T235959
DTSTAMP:20260423T094945
CREATED:20200116T231703Z
LAST-MODIFIED:20200212T234608Z
UID:1152-1581465600-1581551999@raphaelhouse.school.nz
SUMMARY:School Photos
DESCRIPTION:
URL:https://raphaelhouse.school.nz/event/school-photos/
END:VEVENT
BEGIN:VEVENT
DTSTART;TZID=Pacific/Auckland:20200211T193000
DTEND;TZID=Pacific/Auckland:20200211T210000
DTSTAMP:20260423T094945
CREATED:20200204T023110Z
LAST-MODIFIED:20200211T234609Z
UID:2270-1581449400-1581454800@raphaelhouse.school.nz
SUMMARY:Class 8 Parent Evening
DESCRIPTION:
URL:https://raphaelhouse.school.nz/event/class-8-parent-evening/
END:VEVENT
BEGIN:VEVENT
DTSTART;TZID=Pacific/Auckland:20200210T000000
DTEND;TZID=Pacific/Auckland:20200210T235959
DTSTAMP:20260423T094945
CREATED:20200206T043112Z
LAST-MODIFIED:20200206T231611Z
UID:2509-1581292800-1581379199@raphaelhouse.school.nz
SUMMARY:WEEK 2
DESCRIPTION:
URL:https://raphaelhouse.school.nz/event/week-2/
END:VEVENT
BEGIN:VEVENT
DTSTART;TZID=Pacific/Auckland:20200205T193000
DTEND;TZID=Pacific/Auckland:20200205T210000
DTSTAMP:20260423T094945
CREATED:20200204T023110Z
LAST-MODIFIED:20200205T234609Z
UID:2269-1580931000-1580936400@raphaelhouse.school.nz
SUMMARY:Class 9 Parent Evening
DESCRIPTION:
URL:https://raphaelhouse.school.nz/event/class-9-parent-evening/
END:VEVENT
BEGIN:VEVENT
DTSTART;TZID=Pacific/Auckland:20200203T000000
DTEND;TZID=Pacific/Auckland:20200203T235959
DTSTAMP:20260423T094945
CREATED:20200115T230604Z
LAST-MODIFIED:20200203T231608Z
UID:1142-1580688000-1580774399@raphaelhouse.school.nz
SUMMARY:Welcome back to Term 1 @ Raphael House
DESCRIPTION:
URL:https://raphaelhouse.school.nz/event/welcome-back-to-term-1-raphael-house/
END:VEVENT
BEGIN:VEVENT
DTSTART;TZID=Pacific/Auckland:20200131T150000
DTEND;TZID=Pacific/Auckland:20200131T163000
DTSTAMP:20260423T094945
CREATED:20200115T230604Z
LAST-MODIFIED:20200130T231703Z
UID:1141-1580482800-1580488200@raphaelhouse.school.nz
SUMMARY:Raphael House Pōwhiri
DESCRIPTION:
URL:https://raphaelhouse.school.nz/event/raphael-house-powhiri/
END:VEVENT
BEGIN:VEVENT
DTSTART;TZID=Pacific/Auckland:20200131T000000
DTEND;TZID=Pacific/Auckland:20200131T235959
DTSTAMP:20260423T094945
CREATED:20200116T231703Z
LAST-MODIFIED:20200130T231703Z
UID:1147-1580428800-1580515199@raphaelhouse.school.nz
SUMMARY:Teacher Development Day
DESCRIPTION:
URL:https://raphaelhouse.school.nz/event/teacher-development-day-3/
END:VEVENT
BEGIN:VEVENT
DTSTART;TZID=Pacific/Auckland:20200130T000000
DTEND;TZID=Pacific/Auckland:20200130T235959
DTSTAMP:20260423T094945
CREATED:20200116T231703Z
LAST-MODIFIED:20200130T231703Z
UID:1146-1580342400-1580428799@raphaelhouse.school.nz
SUMMARY:Teacher Development Day
DESCRIPTION:
URL:https://raphaelhouse.school.nz/event/teacher-development-day-2/
END:VEVENT
BEGIN:VEVENT
DTSTART;TZID=Pacific/Auckland:20200129T000000
DTEND;TZID=Pacific/Auckland:20200129T235959
DTSTAMP:20260423T094945
CREATED:20200116T231703Z
LAST-MODIFIED:20200129T231703Z
UID:1145-1580256000-1580342399@raphaelhouse.school.nz
SUMMARY:Teacher Development Day
DESCRIPTION:
URL:https://raphaelhouse.school.nz/event/teacher-development-day/
END:VEVENT
BEGIN:VEVENT
DTSTART;TZID=Pacific/Auckland:20200127T183000
DTEND;TZID=Pacific/Auckland:20200127T203000
DTSTAMP:20260423T094945
CREATED:20200115T230604Z
LAST-MODIFIED:20200127T234703Z
UID:1140-1580149800-1580157000@raphaelhouse.school.nz
SUMMARY:Board of Trustees Hui
DESCRIPTION:
URL:https://raphaelhouse.school.nz/event/board-of-trustees-hui/
END:VEVENT
BEGIN:VEVENT
DTSTART;TZID=Pacific/Auckland:20191219T000000
DTEND;TZID=Pacific/Auckland:20200202T235959
DTSTAMP:20260423T094945
CREATED:20191208T191512Z
LAST-MODIFIED:20191208T194610Z
UID:1132-1576713600-1580687999@raphaelhouse.school.nz
SUMMARY:School Holidays
DESCRIPTION:Raphael House School Holidays
URL:https://raphaelhouse.school.nz/event/school-holidays/
END:VEVENT
END:VCALENDAR