BEGIN:VCALENDAR
VERSION:2.0
PRODID:-//Raphael House Rudolf Steiner School - ECPv6.15.20//NONSGML v1.0//EN
CALSCALE:GREGORIAN
METHOD:PUBLISH
X-WR-CALNAME:Raphael House Rudolf Steiner School
X-ORIGINAL-URL:https://raphaelhouse.school.nz
X-WR-CALDESC:Events for Raphael House Rudolf Steiner School
REFRESH-INTERVAL;VALUE=DURATION:PT1H
X-Robots-Tag:noindex
X-PUBLISHED-TTL:PT1H
BEGIN:VTIMEZONE
TZID:Pacific/Auckland
BEGIN:STANDARD
TZOFFSETFROM:+1300
TZOFFSETTO:+1200
TZNAME:NZST
DTSTART:20190406T140000
END:STANDARD
BEGIN:DAYLIGHT
TZOFFSETFROM:+1200
TZOFFSETTO:+1300
TZNAME:NZDT
DTSTART:20190928T140000
END:DAYLIGHT
BEGIN:STANDARD
TZOFFSETFROM:+1300
TZOFFSETTO:+1200
TZNAME:NZST
DTSTART:20200404T140000
END:STANDARD
BEGIN:DAYLIGHT
TZOFFSETFROM:+1200
TZOFFSETTO:+1300
TZNAME:NZDT
DTSTART:20200926T140000
END:DAYLIGHT
BEGIN:STANDARD
TZOFFSETFROM:+1300
TZOFFSETTO:+1200
TZNAME:NZST
DTSTART:20210403T140000
END:STANDARD
BEGIN:DAYLIGHT
TZOFFSETFROM:+1200
TZOFFSETTO:+1300
TZNAME:NZDT
DTSTART:20210925T140000
END:DAYLIGHT
END:VTIMEZONE
BEGIN:VEVENT
DTSTART;TZID=Pacific/Auckland:20200728T190000
DTEND;TZID=Pacific/Auckland:20200728T203000
DTSTAMP:20260423T103230
CREATED:20200727T063114Z
LAST-MODIFIED:20200728T080115Z
UID:8507-1595962800-1595968200@raphaelhouse.school.nz
SUMMARY:Class 1 Evening with Mary Willow
DESCRIPTION:
URL:https://raphaelhouse.school.nz/event/class-1-evening-with-mary-willow/
END:VEVENT
BEGIN:VEVENT
DTSTART;TZID=Pacific/Auckland:20200727T183000
DTEND;TZID=Pacific/Auckland:20200727T203000
DTSTAMP:20260423T103230
CREATED:20200206T033111Z
LAST-MODIFIED:20200206T033111Z
UID:2505-1595874600-1595881800@raphaelhouse.school.nz
SUMMARY:Board of Trustees Hui
DESCRIPTION:
URL:https://raphaelhouse.school.nz/event/board-of-trustees-hui-12/
END:VEVENT
BEGIN:VEVENT
DTSTART;TZID=Pacific/Auckland:20200723T190000
DTEND;TZID=Pacific/Auckland:20200723T203000
DTSTAMP:20260423T103230
CREATED:20200123T202006Z
LAST-MODIFIED:20200723T080208Z
UID:1237-1595530800-1595536200@raphaelhouse.school.nz
SUMMARY:Class Rep Hui
DESCRIPTION:
URL:https://raphaelhouse.school.nz/event/class-rep-hui-3/
END:VEVENT
BEGIN:VEVENT
DTSTART;TZID=Pacific/Auckland:20200704T000000
DTEND;TZID=Pacific/Auckland:20200719T235959
DTSTAMP:20260423T103230
CREATED:20200123T202006Z
LAST-MODIFIED:20200719T233209Z
UID:1235-1593820800-1595203199@raphaelhouse.school.nz
SUMMARY:Term 2 Holidays
DESCRIPTION:Raphael House Term 2 Holidays
URL:https://raphaelhouse.school.nz/event/term-2-holidays/
END:VEVENT
BEGIN:VEVENT
DTSTART;TZID=Pacific/Auckland:20200629T183000
DTEND;TZID=Pacific/Auckland:20200629T203000
DTSTAMP:20260423T103230
CREATED:20200205T034613Z
LAST-MODIFIED:20200629T081708Z
UID:2409-1593455400-1593462600@raphaelhouse.school.nz
SUMMARY:Board of Trustees Hui
DESCRIPTION:
URL:https://raphaelhouse.school.nz/event/board-of-trustees-hui-5/
END:VEVENT
BEGIN:VEVENT
DTSTART;TZID=Pacific/Auckland:20200623T090000
DTEND;TZID=Pacific/Auckland:20200623T140000
DTSTAMP:20260423T103230
CREATED:20200528T001319Z
LAST-MODIFIED:20200623T014708Z
UID:6334-1592902800-1592920800@raphaelhouse.school.nz
SUMMARY:Te Ra Class 7 visit Raphael House
DESCRIPTION:
URL:https://raphaelhouse.school.nz/event/te-ra-class-7-visit-raphael-house/
END:VEVENT
BEGIN:VEVENT
DTSTART;TZID=Pacific/Auckland:20200618T170000
DTEND;TZID=Pacific/Auckland:20200618T200000
DTSTAMP:20260423T103230
CREATED:20200123T202006Z
LAST-MODIFIED:20200618T073208Z
UID:1234-1592499600-1592510400@raphaelhouse.school.nz
SUMMARY:Matariki Festival
DESCRIPTION:
URL:https://raphaelhouse.school.nz/event/matariki-festival/
END:VEVENT
BEGIN:VEVENT
DTSTART;TZID=Pacific/Auckland:20200612T150000
DTEND;TZID=Pacific/Auckland:20200612T170000
DTSTAMP:20260423T103230
CREATED:20200204T204611Z
LAST-MODIFIED:20200612T043115Z
UID:2367-1591974000-1591981200@raphaelhouse.school.nz
SUMMARY:Kindergarten Matariki Festival
DESCRIPTION:
URL:https://raphaelhouse.school.nz/event/kindergarten-matariki-festival/
END:VEVENT
BEGIN:VEVENT
DTSTART;TZID=Pacific/Auckland:20200611T000000
DTEND;TZID=Pacific/Auckland:20200611T235959
DTSTAMP:20260423T103230
CREATED:20200123T202006Z
LAST-MODIFIED:20200611T233114Z
UID:1232-1591833600-1591919999@raphaelhouse.school.nz
SUMMARY:Raphael House 41st Birthday
DESCRIPTION:
URL:https://raphaelhouse.school.nz/event/raphael-house-41st-birthday/
END:VEVENT
BEGIN:VEVENT
DTSTART;TZID=Pacific/Auckland:20200609T000000
DTEND;TZID=Pacific/Auckland:20200609T235959
DTSTAMP:20260423T103230
CREATED:20200205T030111Z
LAST-MODIFIED:20200609T231616Z
UID:2401-1591660800-1591747199@raphaelhouse.school.nz
SUMMARY:C7 RH Students visit Upper School
DESCRIPTION:
URL:https://raphaelhouse.school.nz/event/c7-rh-students-visit-upper-school/
END:VEVENT
BEGIN:VEVENT
DTSTART;TZID=Pacific/Auckland:20200606T000000
DTEND;TZID=Pacific/Auckland:20200606T235959
DTSTAMP:20260423T103230
CREATED:20200204T211611Z
LAST-MODIFIED:20200528T004621Z
UID:2374-1591401600-1591487999@raphaelhouse.school.nz
SUMMARY:40 Hour Famine
DESCRIPTION:
URL:https://raphaelhouse.school.nz/event/40-hour-famine/
END:VEVENT
BEGIN:VEVENT
DTSTART;TZID=Pacific/Auckland:20200602T000000
DTEND;TZID=Pacific/Auckland:20200602T235959
DTSTAMP:20260423T103230
CREATED:20200123T202006Z
LAST-MODIFIED:20200528T004621Z
UID:1231-1591056000-1591142399@raphaelhouse.school.nz
SUMMARY:Teacher Development Day
DESCRIPTION:Raphael House Teacher Development Day – please note that we will not be open to tuition.
URL:https://raphaelhouse.school.nz/event/teacher-development-day-4/
END:VEVENT
BEGIN:VEVENT
DTSTART;TZID=Pacific/Auckland:20200529T090000
DTEND;TZID=Pacific/Auckland:20200529T150000
DTSTAMP:20260423T103230
CREATED:20200219T221616Z
LAST-MODIFIED:20200528T004621Z
UID:3672-1590742800-1590764400@raphaelhouse.school.nz
SUMMARY:Lower School Pentecost Festival
DESCRIPTION:
URL:https://raphaelhouse.school.nz/event/lower-school-pentecost-festival/
END:VEVENT
BEGIN:VEVENT
DTSTART;TZID=Pacific/Auckland:20200528T151500
DTEND;TZID=Pacific/Auckland:20200528T191500
DTSTAMP:20260423T103230
CREATED:20200226T004613Z
LAST-MODIFIED:20200528T004621Z
UID:3963-1590678900-1590693300@raphaelhouse.school.nz
SUMMARY:Upper School Report Evening
DESCRIPTION:
URL:https://raphaelhouse.school.nz/event/upper-school-report-evening-2/
END:VEVENT
BEGIN:VEVENT
DTSTART;TZID=Pacific/Auckland:20200528T090000
DTEND;TZID=Pacific/Auckland:20200528T150000
DTSTAMP:20260423T103230
CREATED:20200131T051704Z
LAST-MODIFIED:20200528T004621Z
UID:1929-1590656400-1590678000@raphaelhouse.school.nz
SUMMARY:Upper School Pentecost Festival
DESCRIPTION:
URL:https://raphaelhouse.school.nz/event/pentecost-festival/
END:VEVENT
BEGIN:VEVENT
DTSTART;TZID=Pacific/Auckland:20200528T000000
DTEND;TZID=Pacific/Auckland:20200528T235959
DTSTAMP:20260423T103230
CREATED:20200204T023111Z
LAST-MODIFIED:20200528T004621Z
UID:2276-1590624000-1590710399@raphaelhouse.school.nz
SUMMARY:Class 12 Elective Play
DESCRIPTION:
URL:https://raphaelhouse.school.nz/event/class-12-play-49/
END:VEVENT
BEGIN:VEVENT
DTSTART;TZID=Pacific/Auckland:20200526T151500
DTEND;TZID=Pacific/Auckland:20200526T200000
DTSTAMP:20260423T103230
CREATED:20200226T004613Z
LAST-MODIFIED:20200325T170204Z
UID:3962-1590506100-1590523200@raphaelhouse.school.nz
SUMMARY:Upper School Report Evening
DESCRIPTION:
URL:https://raphaelhouse.school.nz/event/upper-school-report-evening/
END:VEVENT
BEGIN:VEVENT
DTSTART;TZID=Pacific/Auckland:20200525T183000
DTEND;TZID=Pacific/Auckland:20200525T203000
DTSTAMP:20260423T103230
CREATED:20200205T034612Z
LAST-MODIFIED:20200325T170204Z
UID:2405-1590431400-1590438600@raphaelhouse.school.nz
SUMMARY:Board of Trustees Hui
DESCRIPTION:
URL:https://raphaelhouse.school.nz/event/board-of-trustees-hui-4/
END:VEVENT
BEGIN:VEVENT
DTSTART;TZID=Pacific/Auckland:20200525T000000
DTEND;TZID=Pacific/Auckland:20200528T235959
DTSTAMP:20260423T103230
CREATED:20200204T220110Z
LAST-MODIFIED:20200325T170204Z
UID:2380-1590364800-1590710399@raphaelhouse.school.nz
SUMMARY:Lower School Swimming
DESCRIPTION:
URL:https://raphaelhouse.school.nz/event/lower-school-swimming-2/
END:VEVENT
BEGIN:VEVENT
DTSTART;TZID=Pacific/Auckland:20200521T193000
DTEND;TZID=Pacific/Auckland:20200521T210000
DTSTAMP:20260423T103230
CREATED:20200204T030109Z
LAST-MODIFIED:20200325T170204Z
UID:2291-1590089400-1590094800@raphaelhouse.school.nz
SUMMARY:Class 8 Parent Evening at Te Ra
DESCRIPTION:
URL:https://raphaelhouse.school.nz/event/class-8-parent-evening-with-te-ra/
END:VEVENT
BEGIN:VEVENT
DTSTART;TZID=Pacific/Auckland:20200519T193000
DTEND;TZID=Pacific/Auckland:20200519T210000
DTSTAMP:20260423T103230
CREATED:20200210T034611Z
LAST-MODIFIED:20200325T170204Z
UID:2868-1589916600-1589922000@raphaelhouse.school.nz
SUMMARY:Class 7 Parent Evening
DESCRIPTION:
URL:https://raphaelhouse.school.nz/event/class-7-parent-evening/
END:VEVENT
BEGIN:VEVENT
DTSTART;TZID=Pacific/Auckland:20200519T193000
DTEND;TZID=Pacific/Auckland:20200519T210000
DTSTAMP:20260423T103230
CREATED:20200204T030109Z
LAST-MODIFIED:20200325T170204Z
UID:2290-1589916600-1589922000@raphaelhouse.school.nz
SUMMARY:Class 11 Parent Evening
DESCRIPTION:
URL:https://raphaelhouse.school.nz/event/class-11-parent-evening-2/
END:VEVENT
BEGIN:VEVENT
DTSTART;TZID=Pacific/Auckland:20200519T000000
DTEND;TZID=Pacific/Auckland:20200519T235959
DTSTAMP:20260423T103230
CREATED:20200212T234610Z
LAST-MODIFIED:20200325T170204Z
UID:3166-1589846400-1589932799@raphaelhouse.school.nz
SUMMARY:Te Ra Class 7 Students visit Upper School
DESCRIPTION:
URL:https://raphaelhouse.school.nz/event/te-ra-class-7-students-visit-upper-school/
END:VEVENT
BEGIN:VEVENT
DTSTART;TZID=Pacific/Auckland:20200518T000000
DTEND;TZID=Pacific/Auckland:20200521T235959
DTSTAMP:20260423T103230
CREATED:20200204T220110Z
LAST-MODIFIED:20200325T170204Z
UID:2379-1589760000-1590105599@raphaelhouse.school.nz
SUMMARY:Lower School Swimming
DESCRIPTION:
URL:https://raphaelhouse.school.nz/event/lower-school-swimming/
END:VEVENT
BEGIN:VEVENT
DTSTART;TZID=Pacific/Auckland:20200518T000000
DTEND;TZID=Pacific/Auckland:20200518T235959
DTSTAMP:20260423T103230
CREATED:20200212T234610Z
LAST-MODIFIED:20200325T170204Z
UID:3165-1589760000-1589846399@raphaelhouse.school.nz
SUMMARY:Class 8 Interviews at Te Ra
DESCRIPTION:
URL:https://raphaelhouse.school.nz/event/class-8-interviews-at-te-ra/
END:VEVENT
BEGIN:VEVENT
DTSTART;TZID=Pacific/Auckland:20200514T193000
DTEND;TZID=Pacific/Auckland:20200514T210000
DTSTAMP:20260423T103230
CREATED:20200123T202006Z
LAST-MODIFIED:20200325T170204Z
UID:1230-1589484600-1589490000@raphaelhouse.school.nz
SUMMARY:Class 1 Parent Evening
DESCRIPTION:
URL:https://raphaelhouse.school.nz/event/class-1-parent-evening/
END:VEVENT
BEGIN:VEVENT
DTSTART;TZID=Pacific/Auckland:20200513T193000
DTEND;TZID=Pacific/Auckland:20200513T210000
DTSTAMP:20260423T103230
CREATED:20200123T202006Z
LAST-MODIFIED:20200325T170204Z
UID:1229-1589398200-1589403600@raphaelhouse.school.nz
SUMMARY:Class 2 Parent Evening
DESCRIPTION:
URL:https://raphaelhouse.school.nz/event/class-2-parent-evening/
END:VEVENT
BEGIN:VEVENT
DTSTART;TZID=Pacific/Auckland:20200513T150000
DTEND;TZID=Pacific/Auckland:20200513T163000
DTSTAMP:20260423T103230
CREATED:20200123T202005Z
LAST-MODIFIED:20200325T170204Z
UID:1228-1589382000-1589387400@raphaelhouse.school.nz
SUMMARY:Special Character Talk
DESCRIPTION:Introduction for all new families who are interested in coming to Raphael House.
URL:https://raphaelhouse.school.nz/event/special-character-talk-2/
END:VEVENT
BEGIN:VEVENT
DTSTART;TZID=Pacific/Auckland:20200512T193000
DTEND;TZID=Pacific/Auckland:20200512T210000
DTSTAMP:20260423T103230
CREATED:20200204T030109Z
LAST-MODIFIED:20200325T170204Z
UID:2289-1589311800-1589317200@raphaelhouse.school.nz
SUMMARY:Class 12 Parent Evening
DESCRIPTION:
URL:https://raphaelhouse.school.nz/event/class-12-parent-evening-2/
END:VEVENT
BEGIN:VEVENT
DTSTART;TZID=Pacific/Auckland:20200512T193000
DTEND;TZID=Pacific/Auckland:20200512T210000
DTSTAMP:20260423T103230
CREATED:20200123T202005Z
LAST-MODIFIED:20200325T170204Z
UID:1227-1589311800-1589317200@raphaelhouse.school.nz
SUMMARY:Class 5 Parent Evening
DESCRIPTION:
URL:https://raphaelhouse.school.nz/event/class-5-parent-evening/
END:VEVENT
END:VCALENDAR