BEGIN:VCALENDAR
VERSION:2.0
PRODID:-//Raphael House Rudolf Steiner School - ECPv6.15.20//NONSGML v1.0//EN
CALSCALE:GREGORIAN
METHOD:PUBLISH
X-WR-CALNAME:Raphael House Rudolf Steiner School
X-ORIGINAL-URL:https://raphaelhouse.school.nz
X-WR-CALDESC:Events for Raphael House Rudolf Steiner School
REFRESH-INTERVAL;VALUE=DURATION:PT1H
X-Robots-Tag:noindex
X-PUBLISHED-TTL:PT1H
BEGIN:VTIMEZONE
TZID:Pacific/Auckland
BEGIN:STANDARD
TZOFFSETFROM:+1300
TZOFFSETTO:+1200
TZNAME:NZST
DTSTART:20190406T140000
END:STANDARD
BEGIN:DAYLIGHT
TZOFFSETFROM:+1200
TZOFFSETTO:+1300
TZNAME:NZDT
DTSTART:20190928T140000
END:DAYLIGHT
BEGIN:STANDARD
TZOFFSETFROM:+1300
TZOFFSETTO:+1200
TZNAME:NZST
DTSTART:20200404T140000
END:STANDARD
BEGIN:DAYLIGHT
TZOFFSETFROM:+1200
TZOFFSETTO:+1300
TZNAME:NZDT
DTSTART:20200926T140000
END:DAYLIGHT
BEGIN:STANDARD
TZOFFSETFROM:+1300
TZOFFSETTO:+1200
TZNAME:NZST
DTSTART:20210403T140000
END:STANDARD
BEGIN:DAYLIGHT
TZOFFSETFROM:+1200
TZOFFSETTO:+1300
TZNAME:NZDT
DTSTART:20210925T140000
END:DAYLIGHT
END:VTIMEZONE
BEGIN:VEVENT
DTSTART;TZID=Pacific/Auckland:20200915T090000
DTEND;TZID=Pacific/Auckland:20200915T150000
DTSTAMP:20260423T102501
CREATED:20200131T051704Z
LAST-MODIFIED:20200902T044312Z
UID:1930-1600160400-1600182000@raphaelhouse.school.nz
SUMMARY:Upper School Raphael Festival
DESCRIPTION:
URL:https://raphaelhouse.school.nz/event/raphael-festival/
END:VEVENT
BEGIN:VEVENT
DTSTART;TZID=Pacific/Auckland:20200915T000000
DTEND;TZID=Pacific/Auckland:20200915T235959
DTSTAMP:20260423T102501
CREATED:20200803T054616Z
LAST-MODIFIED:20200902T044311Z
UID:8843-1600128000-1600214399@raphaelhouse.school.nz
SUMMARY:NZCSE Trial Day
DESCRIPTION:
URL:https://raphaelhouse.school.nz/event/nzcse-trial-day-3/
END:VEVENT
BEGIN:VEVENT
DTSTART;TZID=Pacific/Auckland:20200912T000000
DTEND;TZID=Pacific/Auckland:20200912T235959
DTSTAMP:20260423T102501
CREATED:20200123T202007Z
LAST-MODIFIED:20200902T044311Z
UID:1246-1599868800-1599955199@raphaelhouse.school.nz
SUMMARY:Class 12 Project Presentations
DESCRIPTION:
URL:https://raphaelhouse.school.nz/event/class-12-project-presentations/
END:VEVENT
BEGIN:VEVENT
DTSTART;TZID=Pacific/Auckland:20200911T000000
DTEND;TZID=Pacific/Auckland:20200911T235959
DTSTAMP:20260423T102501
CREATED:20200123T202007Z
LAST-MODIFIED:20200902T044311Z
UID:1245-1599782400-1599868799@raphaelhouse.school.nz
SUMMARY:Class 12 Project Display
DESCRIPTION:
URL:https://raphaelhouse.school.nz/event/class-12-project-display/
END:VEVENT
BEGIN:VEVENT
DTSTART;TZID=Pacific/Auckland:20200907T000000
DTEND;TZID=Pacific/Auckland:20200911T235959
DTSTAMP:20260423T102501
CREATED:20200210T234107Z
LAST-MODIFIED:20200902T044311Z
UID:2963-1599436800-1599868799@raphaelhouse.school.nz
SUMMARY:Te Wiki o te Māori
DESCRIPTION:
URL:https://raphaelhouse.school.nz/event/te-wiki-o-te-maori/
END:VEVENT
BEGIN:VEVENT
DTSTART;TZID=Pacific/Auckland:20200902T000000
DTEND;TZID=Pacific/Auckland:20200902T235959
DTSTAMP:20260423T102501
CREATED:20200803T051616Z
LAST-MODIFIED:20200902T044311Z
UID:8839-1599004800-1599091199@raphaelhouse.school.nz
SUMMARY:NZCSE Trial Day
DESCRIPTION:
URL:https://raphaelhouse.school.nz/event/nzcse-trial-day-2/
END:VEVENT
BEGIN:VEVENT
DTSTART;TZID=Pacific/Auckland:20200831T183000
DTEND;TZID=Pacific/Auckland:20200831T203000
DTSTAMP:20260423T102501
CREATED:20200210T234107Z
LAST-MODIFIED:20200831T074615Z
UID:2962-1598898600-1598905800@raphaelhouse.school.nz
SUMMARY:Board of Trustees Hui
DESCRIPTION:
URL:https://raphaelhouse.school.nz/event/board-of-trustees-hui-149/
END:VEVENT
BEGIN:VEVENT
DTSTART;TZID=Pacific/Auckland:20200829T190000
DTEND;TZID=Pacific/Auckland:20200830T000000
DTSTAMP:20260423T102501
CREATED:20200214T211613Z
LAST-MODIFIED:20200829T113115Z
UID:3358-1598727600-1598745600@raphaelhouse.school.nz
SUMMARY:Upper School Ball
DESCRIPTION:
URL:https://raphaelhouse.school.nz/event/upper-school-ball/
END:VEVENT
BEGIN:VEVENT
DTSTART;TZID=Pacific/Auckland:20200825T000000
DTEND;TZID=Pacific/Auckland:20200825T235959
DTSTAMP:20260423T102501
CREATED:20200210T234107Z
LAST-MODIFIED:20200825T233115Z
UID:2961-1598313600-1598399999@raphaelhouse.school.nz
SUMMARY:Class 11 Interviews
DESCRIPTION:
URL:https://raphaelhouse.school.nz/event/class-11-interviews-2/
END:VEVENT
BEGIN:VEVENT
DTSTART;TZID=Pacific/Auckland:20200821T000000
DTEND;TZID=Pacific/Auckland:20200821T235900
DTSTAMP:20260423T102501
CREATED:20200228T191617Z
LAST-MODIFIED:20200228T191617Z
UID:5109-1597968000-1598054340@raphaelhouse.school.nz
SUMMARY:Teacher Development Day
DESCRIPTION:Raphael House Teacher Development Day – please note we will not be open for tuition.
URL:https://raphaelhouse.school.nz/event/teacher-development-day-22/
END:VEVENT
BEGIN:VEVENT
DTSTART;TZID=Pacific/Auckland:20200820T000000
DTEND;TZID=Pacific/Auckland:20200820T235959
DTSTAMP:20260423T102501
CREATED:20200803T051615Z
LAST-MODIFIED:20200820T231710Z
UID:8838-1597881600-1597967999@raphaelhouse.school.nz
SUMMARY:NZCSE Trial Day
DESCRIPTION:
URL:https://raphaelhouse.school.nz/event/nzcse-trial-day/
END:VEVENT
BEGIN:VEVENT
DTSTART;TZID=Pacific/Auckland:20200818T000000
DTEND;TZID=Pacific/Auckland:20200818T235959
DTSTAMP:20260423T102501
CREATED:20200210T234107Z
LAST-MODIFIED:20200818T234708Z
UID:2960-1597708800-1597795199@raphaelhouse.school.nz
SUMMARY:Class 11 Interviews
DESCRIPTION:
URL:https://raphaelhouse.school.nz/event/class-11-interviews/
END:VEVENT
BEGIN:VEVENT
DTSTART;TZID=Pacific/Auckland:20200812T193000
DTEND;TZID=Pacific/Auckland:20200812T203000
DTSTAMP:20260423T102501
CREATED:20200728T020114Z
LAST-MODIFIED:20200812T081708Z
UID:8560-1597260600-1597264200@raphaelhouse.school.nz
SUMMARY:Class 4 Parent Evening
DESCRIPTION:
URL:https://raphaelhouse.school.nz/event/class-4-parent-evening-4/
END:VEVENT
BEGIN:VEVENT
DTSTART;TZID=Pacific/Auckland:20200812T150000
DTEND;TZID=Pacific/Auckland:20200812T163000
DTSTAMP:20260423T102501
CREATED:20200123T202006Z
LAST-MODIFIED:20200812T040210Z
UID:1241-1597244400-1597249800@raphaelhouse.school.nz
SUMMARY:Special Character Talk
DESCRIPTION:Introduction for all new families who are interested in coming to Raphael House.
URL:https://raphaelhouse.school.nz/event/special-character-talk-3/
END:VEVENT
BEGIN:VEVENT
DTSTART;TZID=Pacific/Auckland:20200811T190000
DTEND;TZID=Pacific/Auckland:20200811T210000
DTSTAMP:20260423T102501
CREATED:20200205T030111Z
LAST-MODIFIED:20200205T030111Z
UID:2402-1597172400-1597179600@raphaelhouse.school.nz
SUMMARY:Kindergarten Parent Evening
DESCRIPTION:
URL:https://raphaelhouse.school.nz/event/kindergarten-parent-evening-3/
END:VEVENT
BEGIN:VEVENT
DTSTART;TZID=Pacific/Auckland:20200807T000000
DTEND;TZID=Pacific/Auckland:20200807T235959
DTSTAMP:20260423T102501
CREATED:20200204T201611Z
LAST-MODIFIED:20200807T233113Z
UID:2363-1596758400-1596844799@raphaelhouse.school.nz
SUMMARY:Class 11 Play
DESCRIPTION:
URL:https://raphaelhouse.school.nz/event/class-11-play/
END:VEVENT
BEGIN:VEVENT
DTSTART;TZID=Pacific/Auckland:20200803T190000
DTEND;TZID=Pacific/Auckland:20200803T203000
DTSTAMP:20260423T102501
CREATED:20200727T063114Z
LAST-MODIFIED:20200803T081615Z
UID:8508-1596481200-1596486600@raphaelhouse.school.nz
SUMMARY:Class 1 Parent Evening
DESCRIPTION:
URL:https://raphaelhouse.school.nz/event/class-1-parent-evening-4/
END:VEVENT
BEGIN:VEVENT
DTSTART;TZID=Pacific/Auckland:20200730T190000
DTEND;TZID=Pacific/Auckland:20200730T203000
DTSTAMP:20260423T102501
CREATED:20200728T010114Z
LAST-MODIFIED:20200730T081613Z
UID:8556-1596135600-1596141000@raphaelhouse.school.nz
SUMMARY:Class Parent Evening
DESCRIPTION:
URL:https://raphaelhouse.school.nz/event/class-parent-evening/
END:VEVENT
BEGIN:VEVENT
DTSTART;TZID=Pacific/Auckland:20200728T190000
DTEND;TZID=Pacific/Auckland:20200728T203000
DTSTAMP:20260423T102501
CREATED:20200727T063114Z
LAST-MODIFIED:20200728T080115Z
UID:8507-1595962800-1595968200@raphaelhouse.school.nz
SUMMARY:Class 1 Evening with Mary Willow
DESCRIPTION:
URL:https://raphaelhouse.school.nz/event/class-1-evening-with-mary-willow/
END:VEVENT
BEGIN:VEVENT
DTSTART;TZID=Pacific/Auckland:20200727T183000
DTEND;TZID=Pacific/Auckland:20200727T203000
DTSTAMP:20260423T102501
CREATED:20200206T033111Z
LAST-MODIFIED:20200206T033111Z
UID:2505-1595874600-1595881800@raphaelhouse.school.nz
SUMMARY:Board of Trustees Hui
DESCRIPTION:
URL:https://raphaelhouse.school.nz/event/board-of-trustees-hui-12/
END:VEVENT
BEGIN:VEVENT
DTSTART;TZID=Pacific/Auckland:20200723T190000
DTEND;TZID=Pacific/Auckland:20200723T203000
DTSTAMP:20260423T102501
CREATED:20200123T202006Z
LAST-MODIFIED:20200723T080208Z
UID:1237-1595530800-1595536200@raphaelhouse.school.nz
SUMMARY:Class Rep Hui
DESCRIPTION:
URL:https://raphaelhouse.school.nz/event/class-rep-hui-3/
END:VEVENT
BEGIN:VEVENT
DTSTART;TZID=Pacific/Auckland:20200704T000000
DTEND;TZID=Pacific/Auckland:20200719T235959
DTSTAMP:20260423T102501
CREATED:20200123T202006Z
LAST-MODIFIED:20200719T233209Z
UID:1235-1593820800-1595203199@raphaelhouse.school.nz
SUMMARY:Term 2 Holidays
DESCRIPTION:Raphael House Term 2 Holidays
URL:https://raphaelhouse.school.nz/event/term-2-holidays/
END:VEVENT
BEGIN:VEVENT
DTSTART;TZID=Pacific/Auckland:20200629T183000
DTEND;TZID=Pacific/Auckland:20200629T203000
DTSTAMP:20260423T102501
CREATED:20200205T034613Z
LAST-MODIFIED:20200629T081708Z
UID:2409-1593455400-1593462600@raphaelhouse.school.nz
SUMMARY:Board of Trustees Hui
DESCRIPTION:
URL:https://raphaelhouse.school.nz/event/board-of-trustees-hui-5/
END:VEVENT
BEGIN:VEVENT
DTSTART;TZID=Pacific/Auckland:20200623T090000
DTEND;TZID=Pacific/Auckland:20200623T140000
DTSTAMP:20260423T102501
CREATED:20200528T001319Z
LAST-MODIFIED:20200623T014708Z
UID:6334-1592902800-1592920800@raphaelhouse.school.nz
SUMMARY:Te Ra Class 7 visit Raphael House
DESCRIPTION:
URL:https://raphaelhouse.school.nz/event/te-ra-class-7-visit-raphael-house/
END:VEVENT
BEGIN:VEVENT
DTSTART;TZID=Pacific/Auckland:20200618T170000
DTEND;TZID=Pacific/Auckland:20200618T200000
DTSTAMP:20260423T102501
CREATED:20200123T202006Z
LAST-MODIFIED:20200618T073208Z
UID:1234-1592499600-1592510400@raphaelhouse.school.nz
SUMMARY:Matariki Festival
DESCRIPTION:
URL:https://raphaelhouse.school.nz/event/matariki-festival/
END:VEVENT
BEGIN:VEVENT
DTSTART;TZID=Pacific/Auckland:20200612T150000
DTEND;TZID=Pacific/Auckland:20200612T170000
DTSTAMP:20260423T102501
CREATED:20200204T204611Z
LAST-MODIFIED:20200612T043115Z
UID:2367-1591974000-1591981200@raphaelhouse.school.nz
SUMMARY:Kindergarten Matariki Festival
DESCRIPTION:
URL:https://raphaelhouse.school.nz/event/kindergarten-matariki-festival/
END:VEVENT
BEGIN:VEVENT
DTSTART;TZID=Pacific/Auckland:20200611T000000
DTEND;TZID=Pacific/Auckland:20200611T235959
DTSTAMP:20260423T102501
CREATED:20200123T202006Z
LAST-MODIFIED:20200611T233114Z
UID:1232-1591833600-1591919999@raphaelhouse.school.nz
SUMMARY:Raphael House 41st Birthday
DESCRIPTION:
URL:https://raphaelhouse.school.nz/event/raphael-house-41st-birthday/
END:VEVENT
BEGIN:VEVENT
DTSTART;TZID=Pacific/Auckland:20200609T000000
DTEND;TZID=Pacific/Auckland:20200609T235959
DTSTAMP:20260423T102501
CREATED:20200205T030111Z
LAST-MODIFIED:20200609T231616Z
UID:2401-1591660800-1591747199@raphaelhouse.school.nz
SUMMARY:C7 RH Students visit Upper School
DESCRIPTION:
URL:https://raphaelhouse.school.nz/event/c7-rh-students-visit-upper-school/
END:VEVENT
BEGIN:VEVENT
DTSTART;TZID=Pacific/Auckland:20200606T000000
DTEND;TZID=Pacific/Auckland:20200606T235959
DTSTAMP:20260423T102501
CREATED:20200204T211611Z
LAST-MODIFIED:20200528T004621Z
UID:2374-1591401600-1591487999@raphaelhouse.school.nz
SUMMARY:40 Hour Famine
DESCRIPTION:
URL:https://raphaelhouse.school.nz/event/40-hour-famine/
END:VEVENT
BEGIN:VEVENT
DTSTART;TZID=Pacific/Auckland:20200602T000000
DTEND;TZID=Pacific/Auckland:20200602T235959
DTSTAMP:20260423T102501
CREATED:20200123T202006Z
LAST-MODIFIED:20200528T004621Z
UID:1231-1591056000-1591142399@raphaelhouse.school.nz
SUMMARY:Teacher Development Day
DESCRIPTION:Raphael House Teacher Development Day – please note that we will not be open to tuition.
URL:https://raphaelhouse.school.nz/event/teacher-development-day-4/
END:VEVENT
END:VCALENDAR