BEGIN:VCALENDAR
VERSION:2.0
PRODID:-//Raphael House Rudolf Steiner School - ECPv6.15.20//NONSGML v1.0//EN
CALSCALE:GREGORIAN
METHOD:PUBLISH
X-ORIGINAL-URL:https://raphaelhouse.school.nz
X-WR-CALDESC:Events for Raphael House Rudolf Steiner School
REFRESH-INTERVAL;VALUE=DURATION:PT1H
X-Robots-Tag:noindex
X-PUBLISHED-TTL:PT1H
BEGIN:VTIMEZONE
TZID:Pacific/Auckland
BEGIN:STANDARD
TZOFFSETFROM:+1300
TZOFFSETTO:+1200
TZNAME:NZST
DTSTART:20190406T140000
END:STANDARD
BEGIN:DAYLIGHT
TZOFFSETFROM:+1200
TZOFFSETTO:+1300
TZNAME:NZDT
DTSTART:20190928T140000
END:DAYLIGHT
BEGIN:STANDARD
TZOFFSETFROM:+1300
TZOFFSETTO:+1200
TZNAME:NZST
DTSTART:20200404T140000
END:STANDARD
BEGIN:DAYLIGHT
TZOFFSETFROM:+1200
TZOFFSETTO:+1300
TZNAME:NZDT
DTSTART:20200926T140000
END:DAYLIGHT
BEGIN:STANDARD
TZOFFSETFROM:+1300
TZOFFSETTO:+1200
TZNAME:NZST
DTSTART:20210403T140000
END:STANDARD
BEGIN:DAYLIGHT
TZOFFSETFROM:+1200
TZOFFSETTO:+1300
TZNAME:NZDT
DTSTART:20210925T140000
END:DAYLIGHT
END:VTIMEZONE
BEGIN:VEVENT
DTSTART;TZID=Pacific/Auckland:20200915T000000
DTEND;TZID=Pacific/Auckland:20200915T235959
DTSTAMP:20260423T101434
CREATED:20200803T054616Z
LAST-MODIFIED:20200902T044311Z
UID:8843-1600128000-1600214399@raphaelhouse.school.nz
SUMMARY:NZCSE Trial Day
DESCRIPTION:
URL:https://raphaelhouse.school.nz/event/nzcse-trial-day-3/
END:VEVENT
BEGIN:VEVENT
DTSTART;TZID=Pacific/Auckland:20200915T090000
DTEND;TZID=Pacific/Auckland:20200915T150000
DTSTAMP:20260423T101434
CREATED:20200131T051704Z
LAST-MODIFIED:20200902T044312Z
UID:1930-1600160400-1600182000@raphaelhouse.school.nz
SUMMARY:Upper School Raphael Festival
DESCRIPTION:
URL:https://raphaelhouse.school.nz/event/raphael-festival/
END:VEVENT
BEGIN:VEVENT
DTSTART;TZID=Pacific/Auckland:20200918T090000
DTEND;TZID=Pacific/Auckland:20200918T090000
DTSTAMP:20260423T101434
CREATED:20200210T234107Z
LAST-MODIFIED:20200902T044312Z
UID:2964-1600419600-1600419600@raphaelhouse.school.nz
SUMMARY:Kindergarten Spring Festival - Finish
DESCRIPTION:
URL:https://raphaelhouse.school.nz/event/kindergarten-spring-festival-finish/
END:VEVENT
BEGIN:VEVENT
DTSTART;TZID=Pacific/Auckland:20200918T090000
DTEND;TZID=Pacific/Auckland:20200918T150000
DTSTAMP:20260423T101434
CREATED:20200219T221618Z
LAST-MODIFIED:20200902T044312Z
UID:3674-1600419600-1600441200@raphaelhouse.school.nz
SUMMARY:Lower School Raphael Festival
DESCRIPTION:
URL:https://raphaelhouse.school.nz/event/lower-school-raphael-festival/
END:VEVENT
BEGIN:VEVENT
DTSTART;TZID=Pacific/Auckland:20200924T190000
DTEND;TZID=Pacific/Auckland:20200924T210000
DTSTAMP:20260423T101434
CREATED:20200210T234107Z
LAST-MODIFIED:20200902T044312Z
UID:2965-1600974000-1600981200@raphaelhouse.school.nz
SUMMARY:Class 9 Farm Experience Presentations
DESCRIPTION:
URL:https://raphaelhouse.school.nz/event/class-9-farm-experience-presentations/
END:VEVENT
BEGIN:VEVENT
DTSTART;TZID=Pacific/Auckland:20200925T000000
DTEND;TZID=Pacific/Auckland:20200925T235959
DTSTAMP:20260423T101434
CREATED:20200210T234107Z
LAST-MODIFIED:20200902T044312Z
UID:2966-1600992000-1601078399@raphaelhouse.school.nz
SUMMARY:Class 12 Monologues
DESCRIPTION:
URL:https://raphaelhouse.school.nz/event/class-12-monologues/
END:VEVENT
BEGIN:VEVENT
DTSTART;TZID=Pacific/Auckland:20200926T000100
DTEND;TZID=Pacific/Auckland:20201011T235900
DTSTAMP:20260423T101434
CREATED:20200204T131611Z
LAST-MODIFIED:20200204T131611Z
UID:2337-1601078460-1602460740@raphaelhouse.school.nz
SUMMARY:Term 3 Holidays
DESCRIPTION:Raphael House Term 3 Holidays
URL:https://raphaelhouse.school.nz/event/term-3-holidays-21/
END:VEVENT
BEGIN:VEVENT
DTSTART;TZID=Pacific/Auckland:20201013T193000
DTEND;TZID=Pacific/Auckland:20201013T210000
DTSTAMP:20260423T101434
CREATED:20200210T234107Z
LAST-MODIFIED:20200902T044312Z
UID:2967-1602617400-1602622800@raphaelhouse.school.nz
SUMMARY:Class 11 Parent Evening
DESCRIPTION:
URL:https://raphaelhouse.school.nz/event/class-11-parent-evening-4/
END:VEVENT
BEGIN:VEVENT
DTSTART;TZID=Pacific/Auckland:20201015T193000
DTEND;TZID=Pacific/Auckland:20201015T210000
DTSTAMP:20260423T101434
CREATED:20200210T234107Z
LAST-MODIFIED:20200902T044312Z
UID:2968-1602790200-1602795600@raphaelhouse.school.nz
SUMMARY:Class 9 Parent Evening
DESCRIPTION:
URL:https://raphaelhouse.school.nz/event/class-9-parent-evening-3/
END:VEVENT
BEGIN:VEVENT
DTSTART;TZID=Pacific/Auckland:20201019T190000
DTEND;TZID=Pacific/Auckland:20201019T203000
DTSTAMP:20260423T101434
CREATED:20200123T202007Z
LAST-MODIFIED:20200902T044312Z
UID:1248-1603134000-1603139400@raphaelhouse.school.nz
SUMMARY:Class Rep Hui
DESCRIPTION:
URL:https://raphaelhouse.school.nz/event/class-rep-hui-4/
END:VEVENT
BEGIN:VEVENT
DTSTART;TZID=Pacific/Auckland:20201021T193000
DTEND;TZID=Pacific/Auckland:20201021T210000
DTSTAMP:20260423T101434
CREATED:20200210T234107Z
LAST-MODIFIED:20200902T044312Z
UID:2969-1603308600-1603314000@raphaelhouse.school.nz
SUMMARY:Class 12 Parent Evening
DESCRIPTION:
URL:https://raphaelhouse.school.nz/event/class-12-parent-evening-4/
END:VEVENT
BEGIN:VEVENT
DTSTART;TZID=Pacific/Auckland:20201022T193000
DTEND;TZID=Pacific/Auckland:20201022T210000
DTSTAMP:20260423T101434
CREATED:20200210T234107Z
LAST-MODIFIED:20200902T044312Z
UID:2970-1603395000-1603400400@raphaelhouse.school.nz
SUMMARY:Class 10 Parent Evening
DESCRIPTION:
URL:https://raphaelhouse.school.nz/event/class-10-parent-evening-4/
END:VEVENT
BEGIN:VEVENT
DTSTART;TZID=Pacific/Auckland:20201027T183000
DTEND;TZID=Pacific/Auckland:20201027T203000
DTSTAMP:20260423T101434
CREATED:20200210T234107Z
LAST-MODIFIED:20200902T044312Z
UID:2971-1603823400-1603830600@raphaelhouse.school.nz
SUMMARY:Board of Trustees Hui
DESCRIPTION:
URL:https://raphaelhouse.school.nz/event/board-of-trustees-hui-150/
END:VEVENT
BEGIN:VEVENT
DTSTART;TZID=Pacific/Auckland:20201028T190000
DTEND;TZID=Pacific/Auckland:20201028T203000
DTSTAMP:20260423T101434
CREATED:20200123T202007Z
LAST-MODIFIED:20200204T023112Z
UID:1249-1603911600-1603917000@raphaelhouse.school.nz
SUMMARY:Class 1 Parent Evening
DESCRIPTION:
URL:https://raphaelhouse.school.nz/event/class-1-parent-evening-3/
END:VEVENT
BEGIN:VEVENT
DTSTART;TZID=Pacific/Auckland:20201029T193000
DTEND;TZID=Pacific/Auckland:20201029T210000
DTSTAMP:20260423T101434
CREATED:20200210T234108Z
LAST-MODIFIED:20200902T044312Z
UID:2972-1603999800-1604005200@raphaelhouse.school.nz
SUMMARY:Class 8 Parent Evening
DESCRIPTION:
URL:https://raphaelhouse.school.nz/event/class-8-parent-evening-3/
END:VEVENT
BEGIN:VEVENT
DTSTART;TZID=Pacific/Auckland:20201030T000000
DTEND;TZID=Pacific/Auckland:20201030T235959
DTSTAMP:20260423T101434
CREATED:20200210T234108Z
LAST-MODIFIED:20200902T044312Z
UID:2973-1604016000-1604102399@raphaelhouse.school.nz
SUMMARY:Class 11 Elective Drama Performance
DESCRIPTION:
URL:https://raphaelhouse.school.nz/event/class-11-elective-drama-performance/
END:VEVENT
BEGIN:VEVENT
DTSTART;TZID=Pacific/Auckland:20201102T000000
DTEND;TZID=Pacific/Auckland:20201106T235959
DTSTAMP:20260423T101434
CREATED:20200210T234108Z
LAST-MODIFIED:20200902T044312Z
UID:2974-1604275200-1604707199@raphaelhouse.school.nz
SUMMARY:Class 12 NZCSE Exams
DESCRIPTION:
URL:https://raphaelhouse.school.nz/event/class-12-nzcse-exams/
END:VEVENT
BEGIN:VEVENT
DTSTART;TZID=Pacific/Auckland:20201104T150000
DTEND;TZID=Pacific/Auckland:20201104T163000
DTSTAMP:20260423T101434
CREATED:20200123T202007Z
LAST-MODIFIED:20200902T044312Z
UID:1251-1604502000-1604507400@raphaelhouse.school.nz
SUMMARY:Special Character Talk
DESCRIPTION:Introduction for all new families who are interested in coming to Raphael House.
URL:https://raphaelhouse.school.nz/event/special-character-talk-4/
END:VEVENT
BEGIN:VEVENT
DTSTART;TZID=Pacific/Auckland:20201104T190000
DTEND;TZID=Pacific/Auckland:20201104T203000
DTSTAMP:20260423T101434
CREATED:20200123T202007Z
LAST-MODIFIED:20200204T023112Z
UID:1252-1604516400-1604521800@raphaelhouse.school.nz
SUMMARY:Class 4 Parent Evening
DESCRIPTION:
URL:https://raphaelhouse.school.nz/event/class-4-parent-evening-3/
END:VEVENT
BEGIN:VEVENT
DTSTART;TZID=Pacific/Auckland:20201108T000000
DTEND;TZID=Pacific/Auckland:20201108T235959
DTSTAMP:20260423T101434
CREATED:20200123T202007Z
LAST-MODIFIED:20200902T044312Z
UID:1253-1604793600-1604879999@raphaelhouse.school.nz
SUMMARY:Steiner School Fair
DESCRIPTION:The School Fair is a major annual event hosted by the school community of Raphael House. Its purpose is to celebrate the school’s education & culture with the wider Wellington Community. For 2020 it is on Sunday\, Nov 8th from 10am to 3pm.  \nTo keep up to date and for more information please like and follow our Fair FB page: https://www.facebook.com/raphaelhousefair
URL:https://raphaelhouse.school.nz/event/steiner-school-fair/
END:VEVENT
BEGIN:VEVENT
DTSTART;TZID=Pacific/Auckland:20201109T000000
DTEND;TZID=Pacific/Auckland:20201113T235959
DTSTAMP:20260423T101434
CREATED:20200210T234108Z
LAST-MODIFIED:20200803T204616Z
UID:2975-1604880000-1605311999@raphaelhouse.school.nz
SUMMARY:Rite of Passage Camp
DESCRIPTION:
URL:https://raphaelhouse.school.nz/event/rite-of-passage-camp/
END:VEVENT
BEGIN:VEVENT
DTSTART;TZID=Pacific/Auckland:20201109T000000
DTEND;TZID=Pacific/Auckland:20201113T235959
DTSTAMP:20260423T101434
CREATED:20200210T234108Z
LAST-MODIFIED:20200902T044312Z
UID:2976-1604880000-1605311999@raphaelhouse.school.nz
SUMMARY:Class 10 Surveying Camp
DESCRIPTION:
URL:https://raphaelhouse.school.nz/event/class-10-surveying-camp/
END:VEVENT
BEGIN:VEVENT
DTSTART;TZID=Pacific/Auckland:20201110T000000
DTEND;TZID=Pacific/Auckland:20201113T235959
DTSTAMP:20260423T101434
CREATED:20200803T214617Z
LAST-MODIFIED:20200902T044312Z
UID:8881-1604966400-1605311999@raphaelhouse.school.nz
SUMMARY:Class 12 Camp
DESCRIPTION:
URL:https://raphaelhouse.school.nz/event/class-12-camp/
END:VEVENT
BEGIN:VEVENT
DTSTART;TZID=Pacific/Auckland:20201116T000000
DTEND;TZID=Pacific/Auckland:20201120T235959
DTSTAMP:20260423T101434
CREATED:20200214T211614Z
LAST-MODIFIED:20201120T233210Z
UID:3374-1605484800-1605916799@raphaelhouse.school.nz
SUMMARY:Greek Olympics
DESCRIPTION:
URL:https://raphaelhouse.school.nz/event/greek-olympics/
END:VEVENT
BEGIN:VEVENT
DTSTART;TZID=Pacific/Auckland:20201130T000000
DTEND;TZID=Pacific/Auckland:20201130T235959
DTSTAMP:20260423T101434
CREATED:20200123T202007Z
LAST-MODIFIED:20201130T231620Z
UID:1255-1606694400-1606780799@raphaelhouse.school.nz
SUMMARY:Angels in the Garden
DESCRIPTION:
URL:https://raphaelhouse.school.nz/event/angels-in-the-garden/
END:VEVENT
BEGIN:VEVENT
DTSTART;TZID=Pacific/Auckland:20201130T183000
DTEND;TZID=Pacific/Auckland:20201130T203000
DTSTAMP:20260423T101434
CREATED:20200210T234108Z
LAST-MODIFIED:20201130T070121Z
UID:2977-1606761000-1606768200@raphaelhouse.school.nz
SUMMARY:Board of Trustees Hui
DESCRIPTION:
URL:https://raphaelhouse.school.nz/event/board-of-trustees-hui-151/
END:VEVENT
BEGIN:VEVENT
DTSTART;TZID=Pacific/Auckland:20201207T000000
DTEND;TZID=Pacific/Auckland:20201211T235959
DTSTAMP:20260423T101434
CREATED:20200210T234108Z
LAST-MODIFIED:20201211T233311Z
UID:2979-1607299200-1607731199@raphaelhouse.school.nz
SUMMARY:Class 9 Odyssey Camp
DESCRIPTION:
URL:https://raphaelhouse.school.nz/event/class-9-odyssey-camp/
END:VEVENT
BEGIN:VEVENT
DTSTART;TZID=Pacific/Auckland:20201209T190000
DTEND;TZID=Pacific/Auckland:20201209T210000
DTSTAMP:20260423T101434
CREATED:20200803T214617Z
LAST-MODIFIED:20201209T044514Z
UID:8882-1607540400-1607547600@raphaelhouse.school.nz
SUMMARY:Class 12 Play
DESCRIPTION:
URL:https://raphaelhouse.school.nz/event/class-12-play-50/
END:VEVENT
BEGIN:VEVENT
DTSTART;TZID=Pacific/Auckland:20201210T190000
DTEND;TZID=Pacific/Auckland:20201210T210000
DTSTAMP:20260423T101434
CREATED:20200123T202007Z
LAST-MODIFIED:20201210T071812Z
UID:1257-1607626800-1607634000@raphaelhouse.school.nz
SUMMARY:Class 12 Play
DESCRIPTION:
URL:https://raphaelhouse.school.nz/event/class-12-play/
END:VEVENT
BEGIN:VEVENT
DTSTART;TZID=Pacific/Auckland:20201211T190000
DTEND;TZID=Pacific/Auckland:20201211T210000
DTSTAMP:20260423T101434
CREATED:20200123T202007Z
LAST-MODIFIED:20201211T073313Z
UID:1258-1607713200-1607720400@raphaelhouse.school.nz
SUMMARY:Class 12 Play
DESCRIPTION:
URL:https://raphaelhouse.school.nz/event/class-12-play-2/
END:VEVENT
END:VCALENDAR