BEGIN:VCALENDAR
VERSION:2.0
PRODID:-//Raphael House Rudolf Steiner School - ECPv6.15.20//NONSGML v1.0//EN
CALSCALE:GREGORIAN
METHOD:PUBLISH
X-WR-CALNAME:Raphael House Rudolf Steiner School
X-ORIGINAL-URL:https://raphaelhouse.school.nz
X-WR-CALDESC:Events for Raphael House Rudolf Steiner School
REFRESH-INTERVAL;VALUE=DURATION:PT1H
X-Robots-Tag:noindex
X-PUBLISHED-TTL:PT1H
BEGIN:VTIMEZONE
TZID:Pacific/Auckland
BEGIN:STANDARD
TZOFFSETFROM:+1300
TZOFFSETTO:+1200
TZNAME:NZST
DTSTART:20190406T140000
END:STANDARD
BEGIN:DAYLIGHT
TZOFFSETFROM:+1200
TZOFFSETTO:+1300
TZNAME:NZDT
DTSTART:20190928T140000
END:DAYLIGHT
BEGIN:STANDARD
TZOFFSETFROM:+1300
TZOFFSETTO:+1200
TZNAME:NZST
DTSTART:20200404T140000
END:STANDARD
BEGIN:DAYLIGHT
TZOFFSETFROM:+1200
TZOFFSETTO:+1300
TZNAME:NZDT
DTSTART:20200926T140000
END:DAYLIGHT
BEGIN:STANDARD
TZOFFSETFROM:+1300
TZOFFSETTO:+1200
TZNAME:NZST
DTSTART:20210403T140000
END:STANDARD
BEGIN:DAYLIGHT
TZOFFSETFROM:+1200
TZOFFSETTO:+1300
TZNAME:NZDT
DTSTART:20210925T140000
END:DAYLIGHT
BEGIN:STANDARD
TZOFFSETFROM:+1300
TZOFFSETTO:+1200
TZNAME:NZST
DTSTART:20220402T140000
END:STANDARD
BEGIN:DAYLIGHT
TZOFFSETFROM:+1200
TZOFFSETTO:+1300
TZNAME:NZDT
DTSTART:20220924T140000
END:DAYLIGHT
BEGIN:STANDARD
TZOFFSETFROM:+1300
TZOFFSETTO:+1200
TZNAME:NZST
DTSTART:20230401T140000
END:STANDARD
BEGIN:DAYLIGHT
TZOFFSETFROM:+1200
TZOFFSETTO:+1300
TZNAME:NZDT
DTSTART:20230923T140000
END:DAYLIGHT
BEGIN:STANDARD
TZOFFSETFROM:+1300
TZOFFSETTO:+1200
TZNAME:NZST
DTSTART:20240406T140000
END:STANDARD
BEGIN:DAYLIGHT
TZOFFSETFROM:+1200
TZOFFSETTO:+1300
TZNAME:NZDT
DTSTART:20240928T140000
END:DAYLIGHT
END:VTIMEZONE
BEGIN:VEVENT
DTSTART;TZID=Pacific/Auckland:20201209T190000
DTEND;TZID=Pacific/Auckland:20201209T210000
DTSTAMP:20260423T095044
CREATED:20200803T214617Z
LAST-MODIFIED:20201209T044514Z
UID:8882-1607540400-1607547600@raphaelhouse.school.nz
SUMMARY:Class 12 Play
DESCRIPTION:
URL:https://raphaelhouse.school.nz/event/class-12-play-50/
END:VEVENT
BEGIN:VEVENT
DTSTART;TZID=Pacific/Auckland:20201210T190000
DTEND;TZID=Pacific/Auckland:20201210T210000
DTSTAMP:20260423T095044
CREATED:20200123T202007Z
LAST-MODIFIED:20201210T071812Z
UID:1257-1607626800-1607634000@raphaelhouse.school.nz
SUMMARY:Class 12 Play
DESCRIPTION:
URL:https://raphaelhouse.school.nz/event/class-12-play/
END:VEVENT
BEGIN:VEVENT
DTSTART;TZID=Pacific/Auckland:20201211T190000
DTEND;TZID=Pacific/Auckland:20201211T210000
DTSTAMP:20260423T095044
CREATED:20200123T202007Z
LAST-MODIFIED:20201211T073313Z
UID:1258-1607713200-1607720400@raphaelhouse.school.nz
SUMMARY:Class 12 Play
DESCRIPTION:
URL:https://raphaelhouse.school.nz/event/class-12-play-2/
END:VEVENT
BEGIN:VEVENT
DTSTART;TZID=Pacific/Auckland:20201214T000100
DTEND;TZID=Pacific/Auckland:20201214T235900
DTSTAMP:20260423T095044
CREATED:20200203T231610Z
LAST-MODIFIED:20200226T223746Z
UID:2257-1607904060-1607990340@raphaelhouse.school.nz
SUMMARY:Class 12 First Aid Refresher
DESCRIPTION:
URL:https://raphaelhouse.school.nz/event/class-12-first-aid-refresher-243/
END:VEVENT
BEGIN:VEVENT
DTSTART;TZID=Pacific/Auckland:20201214T000100
DTEND;TZID=Pacific/Auckland:20201215T235900
DTSTAMP:20260423T095044
CREATED:20200124T003205Z
LAST-MODIFIED:20200124T003205Z
UID:1328-1607904060-1608076740@raphaelhouse.school.nz
SUMMARY:Class 10 First Aid
DESCRIPTION:
URL:https://raphaelhouse.school.nz/event/class-10-first-aid-8/
END:VEVENT
BEGIN:VEVENT
DTSTART;TZID=Pacific/Auckland:20201214T183000
DTEND;TZID=Pacific/Auckland:20201214T193000
DTSTAMP:20260423T095044
CREATED:20200131T043205Z
LAST-MODIFIED:20200131T043205Z
UID:1926-1607970600-1607974200@raphaelhouse.school.nz
SUMMARY:Sherperd's Play
DESCRIPTION:
URL:https://raphaelhouse.school.nz/event/sherperds-play-9/
END:VEVENT
BEGIN:VEVENT
DTSTART;TZID=Pacific/Auckland:20201215T100000
DTEND;TZID=Pacific/Auckland:20201215T124000
DTSTAMP:20260423T095044
CREATED:20200123T202008Z
LAST-MODIFIED:20201214T231812Z
UID:1263-1608026400-1608036000@raphaelhouse.school.nz
SUMMARY:Kindergarten Summer Festival Finish 12.40pm
DESCRIPTION:
URL:https://raphaelhouse.school.nz/event/kindergarten-festival-finish/
END:VEVENT
BEGIN:VEVENT
DTSTART;TZID=Pacific/Auckland:20201215T170000
DTEND;TZID=Pacific/Auckland:20201215T210000
DTSTAMP:20260423T095044
CREATED:20200123T202008Z
LAST-MODIFIED:20201215T074811Z
UID:1264-1608051600-1608066000@raphaelhouse.school.nz
SUMMARY:Class 12 Reflections Evening
DESCRIPTION:
URL:https://raphaelhouse.school.nz/event/class-12-reflections-evening/
END:VEVENT
BEGIN:VEVENT
DTSTART;TZID=Pacific/Auckland:20201217T000000
DTEND;TZID=Pacific/Auckland:20201231T235959
DTSTAMP:20260423T095044
CREATED:20200123T202008Z
LAST-MODIFIED:20201231T234813Z
UID:1266-1608163200-1609459199@raphaelhouse.school.nz
SUMMARY:End of School Year Holidays 2020
DESCRIPTION:
URL:https://raphaelhouse.school.nz/event/end-of-school-year-holidays-2020/
END:VEVENT
BEGIN:VEVENT
DTSTART;TZID=Pacific/Auckland:20210202T000000
DTEND;TZID=Pacific/Auckland:20210202T235959
DTSTAMP:20260423T095044
CREATED:20201119T082014Z
LAST-MODIFIED:20210202T231813Z
UID:10345-1612224000-1612310399@raphaelhouse.school.nz
SUMMARY:First Day of School
DESCRIPTION:
URL:https://raphaelhouse.school.nz/event/first-day-of-school/
END:VEVENT
BEGIN:VEVENT
DTSTART;TZID=Pacific/Auckland:20210217T000000
DTEND;TZID=Pacific/Auckland:20210217T235959
DTSTAMP:20260423T095044
CREATED:20201119T082014Z
LAST-MODIFIED:20210217T231810Z
UID:10347-1613520000-1613606399@raphaelhouse.school.nz
SUMMARY:School Photos
DESCRIPTION:
URL:https://raphaelhouse.school.nz/event/school-photos-3/
END:VEVENT
BEGIN:VEVENT
DTSTART;TZID=Pacific/Auckland:20210217T150000
DTEND;TZID=Pacific/Auckland:20210217T170000
DTSTAMP:20260423T095044
CREATED:20201119T082014Z
LAST-MODIFIED:20210217T034812Z
UID:10346-1613574000-1613581200@raphaelhouse.school.nz
SUMMARY:Special Character Talk
DESCRIPTION:
URL:https://raphaelhouse.school.nz/event/special-character-talk-13/
END:VEVENT
BEGIN:VEVENT
DTSTART;TZID=Pacific/Auckland:20210218T000000
DTEND;TZID=Pacific/Auckland:20210218T235959
DTSTAMP:20260423T095044
CREATED:20201119T082014Z
LAST-MODIFIED:20210218T233311Z
UID:10348-1613606400-1613692799@raphaelhouse.school.nz
SUMMARY:School Photos
DESCRIPTION:
URL:https://raphaelhouse.school.nz/event/school-photos-4/
END:VEVENT
BEGIN:VEVENT
DTSTART;TZID=Pacific/Auckland:20210318T000000
DTEND;TZID=Pacific/Auckland:20210318T235959
DTSTAMP:20260423T095044
CREATED:20201119T082014Z
LAST-MODIFIED:20210315T223209Z
UID:10349-1616025600-1616111999@raphaelhouse.school.nz
SUMMARY:Upper School Michaelmas Festival
DESCRIPTION:
URL:https://raphaelhouse.school.nz/event/upper-school-michaelmas-festival/
END:VEVENT
BEGIN:VEVENT
DTSTART;TZID=Pacific/Auckland:20210319T000000
DTEND;TZID=Pacific/Auckland:20210319T235959
DTSTAMP:20260423T095044
CREATED:20201119T082014Z
LAST-MODIFIED:20210315T223209Z
UID:10350-1616112000-1616198399@raphaelhouse.school.nz
SUMMARY:Lower School Michaelmas Festival
DESCRIPTION:
URL:https://raphaelhouse.school.nz/event/lower-school-michaelmas-festival-2/
END:VEVENT
BEGIN:VEVENT
DTSTART;TZID=Pacific/Auckland:20210401T000000
DTEND;TZID=Pacific/Auckland:20210401T235959
DTSTAMP:20260423T095044
CREATED:20201119T082015Z
LAST-MODIFIED:20210315T223209Z
UID:10351-1617235200-1617321599@raphaelhouse.school.nz
SUMMARY:Raphael House Easter Festival
DESCRIPTION:
URL:https://raphaelhouse.school.nz/event/raphael-house-easter-festival/
END:VEVENT
BEGIN:VEVENT
DTSTART;TZID=Pacific/Auckland:20210519T000000
DTEND;TZID=Pacific/Auckland:20210519T235959
DTSTAMP:20260423T095044
CREATED:20201119T082015Z
LAST-MODIFIED:20210315T223209Z
UID:10352-1621382400-1621468799@raphaelhouse.school.nz
SUMMARY:Upper School Pentecost Festival
DESCRIPTION:
URL:https://raphaelhouse.school.nz/event/upper-school-pentecost-festival/
END:VEVENT
BEGIN:VEVENT
DTSTART;TZID=Pacific/Auckland:20210519T150000
DTEND;TZID=Pacific/Auckland:20210519T170000
DTSTAMP:20260423T095044
CREATED:20201119T082015Z
LAST-MODIFIED:20210315T223209Z
UID:10353-1621436400-1621443600@raphaelhouse.school.nz
SUMMARY:Special Character Talk
DESCRIPTION:
URL:https://raphaelhouse.school.nz/event/special-character-talk-14/
END:VEVENT
BEGIN:VEVENT
DTSTART;TZID=Pacific/Auckland:20210521T000000
DTEND;TZID=Pacific/Auckland:20210521T235959
DTSTAMP:20260423T095044
CREATED:20201119T082015Z
LAST-MODIFIED:20210315T223209Z
UID:10354-1621555200-1621641599@raphaelhouse.school.nz
SUMMARY:Lower School Pentecost Festival
DESCRIPTION:
URL:https://raphaelhouse.school.nz/event/lower-school-pentecost-festival-2/
END:VEVENT
BEGIN:VEVENT
DTSTART;TZID=Pacific/Auckland:20210617T000000
DTEND;TZID=Pacific/Auckland:20210617T235959
DTSTAMP:20260423T095044
CREATED:20201119T082015Z
LAST-MODIFIED:20210315T223209Z
UID:10355-1623888000-1623974399@raphaelhouse.school.nz
SUMMARY:Raphael House Matariki Festival
DESCRIPTION:
URL:https://raphaelhouse.school.nz/event/raphael-house-matariki-festival/
END:VEVENT
BEGIN:VEVENT
DTSTART;TZID=Pacific/Auckland:20210811T150000
DTEND;TZID=Pacific/Auckland:20210811T170000
DTSTAMP:20260423T095044
CREATED:20201119T082015Z
LAST-MODIFIED:20210315T223209Z
UID:10356-1628694000-1628701200@raphaelhouse.school.nz
SUMMARY:Special Character Talk
DESCRIPTION:
URL:https://raphaelhouse.school.nz/event/special-character-talk-15/
END:VEVENT
BEGIN:VEVENT
DTSTART;TZID=Pacific/Auckland:20210921T000000
DTEND;TZID=Pacific/Auckland:20210921T235959
DTSTAMP:20260423T095044
CREATED:20201119T082015Z
LAST-MODIFIED:20210315T223209Z
UID:10357-1632182400-1632268799@raphaelhouse.school.nz
SUMMARY:Raphael Festival
DESCRIPTION:
URL:https://raphaelhouse.school.nz/event/raphael-festival-2/
END:VEVENT
BEGIN:VEVENT
DTSTART;TZID=Pacific/Auckland:20210924T000000
DTEND;TZID=Pacific/Auckland:20210924T235959
DTSTAMP:20260423T095044
CREATED:20201119T082015Z
LAST-MODIFIED:20210315T223209Z
UID:10358-1632441600-1632527999@raphaelhouse.school.nz
SUMMARY:Raphael Festival
DESCRIPTION:
URL:https://raphaelhouse.school.nz/event/raphael-festival-3/
END:VEVENT
BEGIN:VEVENT
DTSTART;TZID=Pacific/Auckland:20211103T000000
DTEND;TZID=Pacific/Auckland:20211103T235959
DTSTAMP:20260423T095044
CREATED:20201119T082015Z
LAST-MODIFIED:20210315T223209Z
UID:10359-1635897600-1635983999@raphaelhouse.school.nz
SUMMARY:Special Character Talk
DESCRIPTION:
URL:https://raphaelhouse.school.nz/event/special-character-talk-16/
END:VEVENT
BEGIN:VEVENT
DTSTART;TZID=Pacific/Auckland:20211129T000000
DTEND;TZID=Pacific/Auckland:20211129T235959
DTSTAMP:20260423T095044
CREATED:20201119T082015Z
LAST-MODIFIED:20210315T223209Z
UID:10360-1638144000-1638230399@raphaelhouse.school.nz
SUMMARY:Lower School - Angels in the Garden
DESCRIPTION:
URL:https://raphaelhouse.school.nz/event/lower-school-angels-in-the-garden/
END:VEVENT
BEGIN:VEVENT
DTSTART;TZID=Pacific/Auckland:20211213T133000
DTEND;TZID=Pacific/Auckland:20211213T183000
DTSTAMP:20260423T095044
CREATED:20201119T082015Z
LAST-MODIFIED:20210315T223209Z
UID:10361-1639402200-1639420200@raphaelhouse.school.nz
SUMMARY:Shepherds Play
DESCRIPTION:
URL:https://raphaelhouse.school.nz/event/shepherds-play/
END:VEVENT
BEGIN:VEVENT
DTSTART;TZID=Pacific/Auckland:20230201T120000
DTEND;TZID=Pacific/Auckland:20230201T120000
DTSTAMP:20260423T095044
CREATED:20230121T172021Z
LAST-MODIFIED:20230121T172021Z
UID:15734-1675252800-1675252800@raphaelhouse.school.nz
SUMMARY:School begins for all students
DESCRIPTION:
URL:https://raphaelhouse.school.nz/event/school-begins-for-all-students/
END:VEVENT
END:VCALENDAR